{"text_format":"1","workbook":"xlsx","n_sheets":11,"sheets":["Finish Times (2)","Fleet 1","Fleet 2","Fleet 3","Fleet 4","Harbor 20 Fleet 7","Spring Series Scoring Summary","Fall Series Scoring Summary","Season Series Scoring Summary","Fleet 1 and 2 Combo","Fleet 3 and 4 Combo"],"not_rendered":{"charts":0,"images":1,"macros":1,"external_links":0,"defined_names":7,"comments":4,"pivot_tables":0},"unopened":[],"bounds":{"document_bytes":16777216,"sheet_cells":100000,"rows_first":2000,"rows_last":500,"rows_between":2000,"halvings":0,"cell_chars":16384,"cell_head_chars":4096},"cells_cut":0,"cells_raw":0,"read":"whole","date_system":"1900"}

{"sheet":"Finish Times (2)","index":0,"n_rows":39,"n_cols":7,"rows_kept":39,"cut":false,"hidden":true,"merged":[]}
[]
[]
[]
["MUST",null,"FLEET 1"]
["BE",null,"FLEET 2"]
["IN ALPHA",null,"FLEET 3"]
["ORDER",null,"FLEET 4"]
[null,null,null,null,null,"Finish Time"]
["BOAT NAME","FLEET","BOAT","SAIL #","SKIPPER","MINUTES","SECONDS"]
["Bandit",1,"J/24",2792,"Cliborne"]
["Blunder Bus",1,"J/24",null,"Hardy"]
["Boogie Board",1,"J/24",1742,"Maloney"]
["Catch 22",1,"J22",826,"Schiable"]
["Dark Horse",1,"J/24",1024,"Forqurean"]
["Fox Trot",1,"Colgate 26",null,"Haddon"]
["Rascal",1,"J/24",3511,"Phillip"]
["Time Warp",1,"J/24",1248,"Sampson"]
["UDO",1,"VX One",119,"Gietl"]
["Destiny",2,"Alerion 20",6,"Whitt"]
["Fools Game",2,"Pearson 26",1183,"Hull"]
["Gotcha",2,"S-2 6.7",75,"Theis"]
["Majical",2,"Cal 25",1687,"Witten"]
["Severence",2,"C&C 25",14755,"Evans"]
["Stoic",2,"Harbor 20",330,"Hemler"]
["StressLess",2,"Harbor 20",212,"Breckenridge"]
["Synergy",2,"Harbor 20",215,"Miekina"]
["Circle Back",3,"Catalina 22","C22","Nash"]
["Miss Virginia",3,"Hunter 23.5",1309,"Perdue"]
["Norse Raider",3,"Ericson 23",23,"Short"]
["Second Wind",3,"Ericson 23",470,"Schraw"]
["Tundra Swan",3,"Hunter 23",1256,"Gobble"]
["Alarming",4,"S-2 9.2",505,"Oginz"]
["BILL",4,"Hunter 356",null,"Gillespie"]
["Felicite",4,"S-2 27 IB",13,"Johnson"]
["Got to Go",4,"Catalina 30",97,"Forrester"]
["Janet Anne",4,"Catalina 25",5155,"Tunnell"]
["Little Wing",4,"Beneteau 29",485,"DeMestro"]
["More Mischief",4,"Beneteau 285",144,"Gearhart"]
["Willaway",4,"Columbia 29",222,"Conover"]

{"sheet":"Fleet 1","index":1,"n_rows":84,"n_cols":18,"rows_kept":84,"cut":false,"hidden":false,"merged":[[74,0,74,14],[75,5,75,8],[76,0,76,14],[77,6,77,7],[77,8,77,9],[77,10,77,11],[64,0,64,14],[65,5,65,8],[66,0,66,14],[67,6,67,7],[67,8,67,9],[67,10,67,11],[54,0,54,14],[55,5,55,8],[56,0,56,14],[57,6,57,7],[57,8,57,9],[57,10,57,11],[44,0,44,14],[45,5,45,8],[46,0,46,14],[47,6,47,7],[47,8,47,9],[47,10,47,11],[34,0,34,14],[35,5,35,8],[36,0,36,14],[37,6,37,7],[37,8,37,9],[37,10,37,11],[24,0,24,14],[25,5,25,8],[26,0,26,14],[27,6,27,7],[27,8,27,9],[27,10,27,11],[14,0,14,14],[15,5,15,8],[16,0,16,14],[17,6,17,7],[17,8,17,9],[17,10,17,11],[4,0,4,14],[6,0,6,14],[7,6,7,7],[7,8,7,9],[7,10,7,11],[5,5,5,8]]}
["Control Z to run macro"]
[]
[{"$f":"#REF!","v":{"$error":"#REF!"}},"<-----Minutes after first start"]
[]
["Blackwater Yacht Racing Association - Race Results - Fleet 1"]
[null,null,null,"Date: ","2019-09-07","2019 Fall Series Race 1",null,null,null,null,"RC: Warren Theis"]
["I & II W/L twice around, III & IV W/L Once around.  Wind light and shifty 4 to 8 mph",null,null,null,null,null,null,null,null,null,null,null,null,null,null,"Time","Time","Approx"]
[null,null,null,null,null,null,"Handicap",null,"TCF",null,"Finish Time",null,"Calc(1)","Adj.(2)",null,"Behind","Behind","H'cap"]
["Skipper","Boat Name","Initials","Guest?","Boat","Sail #","Spin*","Non-Spin*","Spin*","Non-Spin*","Min.","Sec.","Min.dd","Time","Place","Winner","Boat Ahead","to win"]
["Cliborne","Bandit",null,null,"J/24",2792,170,185,0.93457943925233644,"",36,25,36.416666666666664,34.034267912772584,1,0,null,170]
["Schaible","Spider",null,null,"B25",46,136,151,0.96525096525096521,"",44,3,44.05,42.519305019305015,3,8.485037106532431,4.1236663900215262,394]
["Forqurean","Dark Horse",null,null,"J/24",1024,170,185,0.93457943925233644,"",41,5,41.083333333333336,38.395638629283489,2,4.3613707165109048,4.3613707165109048,307]
["Theis","Gotcha",null,null,"S-2 6.7",75,208,223,0.90252707581227432,"","",""," ","","RC","","",""]
["Evans","Severence",null,null,"C&C 25",14755,217,232,0.89525514771709935,"","",""," ","","","","",""]
["Blackwater Yacht Racing Association - Race Results - Fleet 1"]
[null,null,null,"Date: ","2019-09-07","2019 Fall Series Race 2",null,null,null,null,"RC: Warren Theis"]
["I & II W/L twice around, III & IV W/L Once around.  Wind light and shifty 4 to 8 mph",null,null,null,null,null,null,null,null,null,null,null,null,null,null,"Time","Time","Approx"]
[null,null,null,null,null,null,"Handicap",null,"TCF",null,"Finish Time",null,"Calc(1)","Adj.(2)",null,"Behind","Behind","H'cap"]
["Skipper","Boat Name","Initials","Guest?","Boat","Sail #","Spin*","Non-Spin*","Spin*","Non-Spin*","Min.","Sec.","Min.dd","Time","Place","Winner","Boat Ahead","to win"]
["Cliborne","Bandit",null,null,"J/24",2792,170,185,0.93457943925233644,"",42,54,42.9,40.09345794392523,1,0,null,170]
["Schaible","Spider",null,null,"B25",46,136,151,0.96525096525096521,"",47,28,47.466666666666669,45.817245817245819,3,5.7237878733205889,0.95743273313367183,284]
["Forqurean","Dark Horse",null,null,"J/24",1024,170,185,0.93457943925233644,"",48,0,48,44.859813084112147,2,4.7663551401869171,4.7663551401869171,297]
["Theis","Gotcha",null,null,"S-2 6.7",75,208,223,0.90252707581227432,"","",""," ","","RC","","",""]
["Evans","Severence",null,null,"C&C 25",14755,217,232,0.89525514771709935,"","",""," ","","","","",""]
["Blackwater Yacht Racing Association - Race Results - Fleet 1"]
[null,null,null,"Date: ","2019-09-21","2019 Fall Series Race 3",null,null,null,null,"RC: George DeMestro/Bob Grogan"]
["Light east - 4 mph",null,null,null,null,null,null,null,null,null,null,null,null,null,null,"Time","Time","Approx"]
[null,null,null,null,null,null,"Handicap",null,"TCF",null,"Finish Time",null,"Calc(1)","Adj.(2)",null,"Behind","Behind","H'cap"]
["Skipper","Boat Name","Initials","Guest?","Boat","Sail #","Spin*","Non-Spin*","Spin*","Non-Spin*","Min.","Sec.","Min.dd","Time","Place","Winner","Boat Ahead","to win"]
["Cliborne","Bandit",null,null,"J/24",2792,170,185,0.93457943925233644,"",45,58,45.966666666666669,42.9595015576324,1,0,null,170]
["Schaible","Spider",null,null,"B25",46,136,151,0.96525096525096521,"",45,41,45.68333333333333,44.095881595881593,2,1.1363800382491931,null,163]
["Forqurean","Dark Horse",null,null,"J/24",1024,170,185,0.93457943925233644,"","",""," ","","","",null,""]
["Theis","Gotcha",null,null,"S-2 6.7",75,208,223,0.90252707581227432,"",59,20,59.333333333333336,53.549939831528278,3,10.590438273895877,null,481]
["Evans","Severence",null,null,"C&C 25",14755,217,232,0.89525514771709935,"","",""," ","",null,"",null,""]
["Blackwater Yacht Racing Association - Race Results - Fleet 1"]
[null,null,null,"Date: ","2019-09-21","2019 Fall Series Race 4",null,null,null,null,"RC: George DeMestro/Bob Grogan"]
["Windward Leeward Light southeast - 6 mph",null,null,null,null,null,null,null,null,null,null,null,null,null,null,"Time","Time","Approx"]
[null,null,null,null,null,null,"Handicap",null,"TCF",null,"Finish Time",null,"Calc(1)","Adj.(2)",null,"Behind","Behind","H'cap"]
["Skipper","Boat Name","Initials","Guest?","Boat","Sail #","Spin*","Non-Spin*","Spin*","Non-Spin*","Min.","Sec.","Min.dd","Time","Place","Winner","Boat Ahead","to win"]
["Cliborne","Bandit",null,null,"J/24",2792,170,185,0.93457943925233644,"",72,4,72.066666666666663,67.352024922118375,1,0,null,170]
["Schaible","Spider",null,null,"B25",46,136,151,0.96525096525096521,"",75,26,75.433333333333337,72.812097812097818,2,5.4600728899794433,5.4600728899794433,220]
["Forqurean","Dark Horse",null,null,"J/24",1024,170,185,0.93457943925233644,"","",""," ","","","","",""]
["Theis","Gotcha",null,null,"S-2 6.7",75,208,223,0.90252707581227432,"",85,26,85.433333333333337,77.105896510228632,3,9.7538715881102576,4.2937986981308143,368]
["Evans","Severence",null,null,"C&C 25",14755,217,232,0.89525514771709935,"","",""," ","",null,"","",""]
["Blackwater Yacht Racing Association - Race Results - Fleet 1"]
[null,null,null,"Date: ","2019-10-05","2019 Fall Series Race 5",null,null,null,null,"RC: Bob Toone/Mark Gobble"]
["East 7 clocking to SE Windward Leeward Once Around",null,null,null,null,null,null,null,null,null,null,null,null,null,null,"Time","Time","Approx"]
[null,null,null,null,null,null,"Handicap",null,"TCF",null,"Finish Time",null,"Calc(1)","Adj.(2)",null,"Behind","Behind","H'cap"]
["Skipper","Boat Name","Initials","Guest?","Boat","Sail #","Spin*","Non-Spin*","Spin*","Non-Spin*","Min.","Sec.","Min.dd","Time","Place","Winner","Boat Ahead","to win"]
["Cliborne","Bandit",null,null,"J/24",2792,170,185,0.93457943925233644,"",22,0,22,20.560747663551403,1,0,null,170]
["Schaible","Spider",null,null,"B25",46,136,151,0.96525096525096521,"",23,5,23.083333333333332,22.281209781209778,3,1.720462117658375,1.2999013699948243,223]
["Forqurean","Dark Horse",null,null,"J/24",1024,170,185,0.93457943925233644,"",22,27,22.45,20.981308411214954,2,0.42056074766355067,0.42056074766355067,192]
["Theis","Gotcha",null,null,"S-2 6.7",75,208,223,0.90252707581227432,"",27,12,27.2,24.54873646209386,4,3.9879887985424567,2.2675266808840817,423]
["Evans","Severence",null,null,"C&C 25",14755,217,232,0.89525514771709935,"","",""," ","",null,"","",""]
["Blackwater Yacht Racing Association - Race Results - Fleet 1"]
[null,null,null,"Date: ","2019-10-05","2019 Fall Series Race 6",null,null,null,null,"RC: Bob Toone/Mark Gobble"]
["Northeast clocking to East 7 falling to zero.  III & IV start first Windward/Leward/Offset once around, I & II Windward/Leeward twice around",null,null,null,null,null,null,null,null,null,null,null,null,null,null,"Time","Time","Approx"]
[null,null,null,null,null,null,"Handicap",null,"TCF",null,"Finish Time",null,"Calc(1)","Adj.(2)",null,"Behind","Behind","H'cap"]
["Skipper","Boat Name","Initials","Guest?","Boat","Sail #","Spin*","Non-Spin*","Spin*","Non-Spin*","Min.","Sec.","Min.dd","Time","Place","Winner","Boat Ahead","to win"]
["Cliborne","Bandit",null,null,"J/24",2792,170,185,0.93457943925233644,"",64,31,64.516666666666666,60.295950155763236,2,4.6728971962615162E-2,4.6728971962615162E-2,171]
["Schaible","Spider",null,null,"B25",46,136,151,0.96525096525096521,"",64,49,64.816666666666663,62.564350064350059,3,2.3151288805494374,2.2683999085868223,176]
["Forqurean","Dark Horse",null,null,"J/24",1024,170,185,0.93457943925233644,"",64,28,64.466666666666669,60.249221183800621,1,0,null,170]
["Theis","Gotcha",null,null,"S-2 6.7",75,208,223,0.90252707581227432,"",71,44,71.733333333333334,64.741275571600482,4,4.4920543877998611,2.1769255072504237,291]
["Evans","Severence",null,null,"C&C 25",14755,217,232,0.89525514771709935,"","",""," ","",null,"","",""]
["Blackwater Yacht Racing Association - Race Results - Fleet 1"]
[null,null,null,"Date: ","2019-10-19","2019 Fall Series Race 7",null,null,null,null,"RC: Paul Hemler/Lee Arnold"]
["South west backing to South 7-8. Windward Leeward I & II 3X, III & IV 3X",null,null,null,null,null,null,null,null,null,null,null,null,null,null,"Time","Time","Approx"]
[null,null,null,null,null,null,"Handicap",null,"TCF",null,"Finish Time",null,"Calc(1)","Adj.(2)",null,"Behind","Behind","H'cap"]
["Skipper","Boat Name","Initials","Guest?","Boat","Sail #","Spin*","Non-Spin*","Spin*","Non-Spin*","Min.","Sec.","Min.dd","Time","Place","Winner","Boat Ahead","to win"]
["Cliborne","Bandit",null,null,"J/24",2792,170,185,0.93457943925233644,"",57,30,57.5,53.738317757009348,1,0,null,170]
["Schaible","Spider",null,null,"B25",46,136,151,0.96525096525096521,"",63,37,63.616666666666667,61.406048906048902,3,7.6677311490395539,0.56068187837140471,284]
["Forqurean","Dark Horse",null,null,"J/24",1024,170,185,0.93457943925233644,"","",""," ","","","","",""]
["Theis","Gotcha",null,null,"S-2 6.7",75,208,223,0.90252707581227432,"",67,25,67.416666666666671,60.845367027677497,2,7.1070492706681492,7.1070492706681492,355]
["Evans","Severence",null,null,"C&C 25",14755,217,232,0.89525514771709935,"","",""," ","",null,"","",""]
["Blackwater Yacht Racing Association - Race Results - Fleet 1"]
[null,null,null,"Date: ","2019-10-19","2019 Fall Series Race 8",null,null,null,null,"RC: Paul Hemler/Lee Arnold"]
["South west backing to South 7-8. Short Road Course Bull Run to PPYC",null,null,null,null,null,null,null,null,null,null,null,null,null,null,"Time","Time","Approx"]
[null,null,null,null,null,null,"Handicap",null,"TCF",null,"Finish Time",null,"Calc(1)","Adj.(2)",null,"Behind","Behind","H'cap"]
["Skipper","Boat Name","Initials","Guest?","Boat","Sail #","Spin*","Non-Spin*","Spin*","Non-Spin*","Min.","Sec.","Min.dd","Time","Place","Winner","Boat Ahead","to win"]
["Cliborne","Bandit",null,null,"J/24",2792,170,185,0.93457943925233644,"",25,16,25.266666666666666,23.613707165109034,1,0,null,170]
["Schaible","Spider",null,null,"B25",46,136,151,0.96525096525096521,"",28,35,28.583333333333332,27.590090090090087,3,3.9763829249810527,2.0335317266725177,310]
["Forqurean","Dark Horse",null,null,"J/24",1024,170,185,0.93457943925233644,"","",""," ","","","","",""]
["Theis","Gotcha",null,null,"S-2 6.7",75,208,223,0.90252707581227432,"",28,19,28.316666666666666,25.556558363417569,2,1.942851198308535,1.942851198308535,299]
["Evans","Severence",null,null,"C&C 25",14755,217,232,0.89525514771709935,"","",""," ","",null,"","",""]

{"sheet":"Fleet 2","index":2,"n_rows":108,"n_cols":18,"rows_kept":108,"cut":false,"hidden":false,"merged":[[95,0,95,14],[96,5,96,8],[97,0,97,14],[98,6,98,7],[98,8,98,9],[98,10,98,11],[83,5,83,8],[84,0,84,14],[85,6,85,7],[85,8,85,9],[85,10,85,11],[82,0,82,14],[69,0,69,14],[70,5,70,8],[71,0,71,14],[72,6,72,7],[72,8,72,9],[72,10,72,11],[56,0,56,14],[57,5,57,8],[58,0,58,14],[59,6,59,7],[59,8,59,9],[59,10,59,11],[43,0,43,14],[44,5,44,8],[45,0,45,14],[46,6,46,7],[46,8,46,9],[46,10,46,11],[30,0,30,14],[31,5,31,8],[32,0,32,14],[33,6,33,7],[33,8,33,9],[33,10,33,11],[17,0,17,14],[18,5,18,8],[19,0,19,14],[20,6,20,7],[20,8,20,9],[20,10,20,11],[4,0,4,14],[6,0,6,14],[7,6,7,7],[7,8,7,9],[7,10,7,11],[5,5,5,8]]}
[]
[]
[{"$f":"#REF!","v":{"$error":"#REF!"}},"<-----Minutes after first start"]
[]
["Blackwater Yacht Racing Association - Race Results - Fleet 2"]
[null,null,null,"Date:","2019-09-07","2019 Fall Series Race 1",null,null,null,null,"RC: Warren Theis"]
["I & II W/L twice around, III & IV W/L Once around.  Wind light and shifty 4 to 8 mph",null,null,null,null,null,null,null,null,null,null,null,null,null,null,"Time","Time","Approx"]
[null,null,null,null,null,null,"Handicap",null,"TCF",null,"Finish Time",null,"Calc(1)","Adj.(2)",null,"Behind","Behind","H'cap"]
["Skipper","Boat Name","Initials","Guest?","Boat","Sail #","Spin*","Non-Spin*","Spin*","Non-Spin*","Min.","Sec.","Min.dd","Time","Place","Winner","Boat Ahead","to win"]
["Arnold","Sails Call",null,null,"Harbor 20",322,220,235,"",0.88105726872246692,43,20,43.333333333333336,38.179148311306903,1,0,null,235]
["Tunnell/Maloney","Courageous",null,null,"Harbor 20",278,220,235,"",0.88105726872246692,44,44,44.733333333333334,39.412628487518354,2,1.2334801762114509,1.2334801762114509,272]
["Hemler","Stoic",null,null,"Harbor 20",330,220,235,"",0.88105726872246692,44,52,44.866666666666667,39.530102790014681,3,1.3509544787077772,0.11747430249632629,275]
["Toone","StressLess",null,null,"Harbor 20",212,220,235,"",0.88105726872246692,45,49,45.81666666666667,40.367107195301031,5,2.1879588839941277,0.616740088105729,300]
["Miekina","Synergy",null,null,"Harbor 20",215,220,235,"",0.88105726872246692,48,5,48.083333333333336,42.364170337738621,6,4.1850220264317173,1.9970631424375895,359]
["Lingner","Easy Goer",null,null,"Harbor 20",337,220,235,"",0.88105726872246692,"",""," ","","","","",""]
["Whitt","Destiny",null,null,"Alerion 20",6,220,235,"",0.88105726872246692,45,7,45.116666666666667,39.750367107195302,4,1.5712187958883987,0.22026431718062156,282]
["Runyan","Audacious",null,null,"Alerion 20",51062,220,235,"",0.88105726872246692,57,48,57.8,50.925110132158586,7,12.745961820851683,8.5609397944199657,614]
["Blackwater Yacht Racing Association - Race Results - Fleet 2"]
[null,null,null,"Date:","2019-09-07","2019 Fall Series Race 2",null,null,null,null,"RC: Warren Theis"]
["I & II W/L twice around, III & IV W/L Once around.  Wind light and shifty 4 to 8 mph",null,null,null,null,null,null,null,null,null,null,null,null,null,null,"Time","Time","Approx"]
[null,null,null,null,null,null,"Handicap",null,"TCF",null,"Finish Time",null,"Calc(1)","Adj.(2)",null,"Behind","Behind","H'cap"]
["Skipper","Boat Name","Initials","Guest?","Boat","Sail #","Spin*","Non-Spin*","Spin*","Non-Spin*","Min.","Sec.","Min.dd","Time","Place","Winner","Boat Ahead","to win"]
["Arnold","Sails Call",null,null,"Harbor 20",322,220,235,"",0.88105726872246692,52,20,52.333333333333336,46.108663729809102,6,1.1894273127753294,0.27900146842878115,265]
["Tunnell/Maloney","Courageous",null,null,"Harbor 20",278,220,235,"",0.88105726872246692,52,1,52.016666666666666,45.829662261380321,5,0.91042584434654827,0.39647577092510744,258]
["Hemler","Stoic",null,null,"Harbor 20",330,220,235,"",0.88105726872246692,50,59,50.983333333333334,44.919236417033773,1,0,null,235]
["Toone","StressLess",null,null,"Harbor 20",212,220,235,"",0.88105726872246692,51,20,51.333333333333336,45.227606461086637,2,0.3083700440528645,0.3083700440528645,243]
["Miekina","Synergy",null,null,"Harbor 20",215,220,235,"",0.88105726872246692,53,4,53.06666666666667,46.754772393538914,7,1.8355359765051418,0.64610866372981235,281]
["Lingner","Easy Goer",null,null,"Harbor 20",337,220,235,"",0.88105726872246692,"",""," ","","","","",""]
["Whitt","Destiny",null,null,"Alerion 20",6,220,235,"",0.88105726872246692,51,34,51.56666666666667,45.433186490455213,4,0.51395007342144083,5.8737151248166697E-2,248]
["Runyan","Audacious",null,null,"Alerion 20",51062,220,235,"",0.88105726872246692,51,30,51.5,45.374449339207047,3,0.45521292217327414,0.14684287812040964,247]
["Blackwater Yacht Racing Association - Race Results - Fleet 2"]
[null,null,null,"Date:","2019-09-21","2019 Fall Series Race 3",null,null,null,null,"RC: George DeMestro/Bob Grogan"]
["Windward/Leeward - Light east - 4 mph",null,null,null,null,null,null,null,null,null,null,null,null,null,null,"Time","Time","Approx"]
[null,null,null,null,null,null,"Handicap",null,"TCF",null,"Finish Time",null,"Calc(1)","Adj.(2)",null,"Behind","Behind","H'cap"]
["Skipper","Boat Name","Initials","Guest?","Boat","Sail #","Spin*","Non-Spin*","Spin*","Non-Spin*","Min.","Sec.","Min.dd","Time","Place","Winner","Boat Ahead","to win"]
["Arnold","Sails Call",null,null,"Harbor 20",322,220,235,"",0.88105726872246692,"DNF",null,null,null,7]
["Tunnell/Maloney","Courageous",null,null,"Harbor 20",278,220,235,"",0.88105726872246692,58,19,58.31666666666667,51.380323054331868,2,0.3671071953010312,0.3671071953010312,243]
["Hemler","Stoic",null,null,"Harbor 20",330,220,235,"",0.88105726872246692,57,54,57.9,51.013215859030836,1,0,null,235]
["Toone","StressLess",null,null,"Harbor 20",212,220,235,"",0.88105726872246692,58,35,58.583333333333336,51.61527165932452,3,0.60205580029368377,0.23494860499265258,248]
["Miekina","Synergy",null,null,"Harbor 20",215,220,235,"",0.88105726872246692,"",""," ","","","","",""]
["Lingner","Easy Goer",null,null,"Harbor 20",337,220,235,"",0.88105726872246692,"",""," ","","","","",""]
["Whitt","Destiny",null,null,"Alerion 20",6,220,235,"",0.88105726872246692,59,57,59.95,52.819383259911895,4,1.8061674008810584,1.2041116005873747,275]
["Runyan","Audacious",null,null,"Alerion 20",51062,220,235,"",0.88105726872246692,62,43,62.716666666666669,55.25697503671072,5,4.243759177679884,2.4375917767988255,329]
["Blackwater Yacht Racing Association - Race Results - Fleet 2"]
[null,null,null,"Date:","2019-09-21","2019 Fall Series Race 4",null,null,null,null,"RC: George DeMestro/Bob Grogan"]
["Windward Leeward Light southeast - 6 mph",null,null,null,null,null,null,null,null,null,null,null,null,null,null,"Time","Time","Approx"]
[null,null,null,null,null,null,"Handicap",null,"TCF",null,"Finish Time",null,"Calc(1)","Adj.(2)",null,"Behind","Behind","H'cap"]
["Skipper","Boat Name","Initials","Guest?","Boat","Sail #","Spin*","Non-Spin*","Spin*","Non-Spin*","Min.","Sec.","Min.dd","Time","Place","Winner","Boat Ahead","to win"]
["Arnold","Sails Call",null,null,"Harbor 20",322,220,235,"",0.88105726872246692,62,45,62.75,55.286343612334797,3,0.52863436123347896,0.17621145374449299,246]
["Tunnell/Maloney","Courageous",null,null,"Harbor 20",278,220,235,"",0.88105726872246692,62,9,62.15,54.757709251101318,1,0,null,235]
["Hemler","Stoic",null,null,"Harbor 20",330,220,235,"",0.88105726872246692,62,33,62.55,55.110132158590304,2,0.35242290748898597,0.35242290748898597,242]
["Toone","StressLess",null,null,"Harbor 20",212,220,235,"",0.88105726872246692,65,53,65.88333333333334,58.046989720998532,6,3.2892804698972142,2.5550660792951589,303]
["Miekina","Synergy",null,null,"Harbor 20",215,220,235,"",0.88105726872246692,"",""," ","","","","",""]
["Lingner","Easy Goer",null,null,"Harbor 20",337,220,235,"",0.88105726872246692,"",""," ","","","","",""]
["Whitt","Destiny",null,null,"Alerion 20",6,220,235,"",0.88105726872246692,62,58,62.966666666666669,55.477239353891335,4,0.71953010279001717,0.19089574155653821,250]
["Runyan","Audacious",null,null,"Alerion 20",51062,220,235,"",0.88105726872246692,62,59,62.983333333333334,55.491923641703373,5,0.73421439060205529,1.4684287812038122E-2,250]
["Blackwater Yacht Racing Association - Race Results - Fleet 2"]
[null,null,null,"Date:","2019-10-05","2019 Fall Series Race 5",null,null,null,null,"RC: Bob Toone/Mark Gobble"]
["East 7 clocking to SE Windward Leeward Once Around",null,null,null,null,null,null,null,null,null,null,null,null,null,null,"Time","Time","Approx"]
[null,null,null,null,null,null,"Handicap",null,"TCF",null,"Finish Time",null,"Calc(1)","Adj.(2)",null,"Behind","Behind","H'cap"]
["Skipper","Boat Name","Initials","Guest?","Boat","Sail #","Spin*","Non-Spin*","Spin*","Non-Spin*","Min.","Sec.","Min.dd","Time","Place","Winner","Boat Ahead","to win"]
["Arnold","Sails Call",null,null,"Harbor 20",322,220,235,"",0.88105726872246692,28,6,28.1,24.757709251101321,2,1.2628487518355342,1.2628487518355342,296]
["Tunnell/Maloney","Courageous",null,null,"Harbor 20",278,220,235,"",0.88105726872246692,28,47,28.783333333333335,25.359765051395009,3,1.8649045521292216,0.60205580029368733,325]
["Hemler","Stoic",null,null,"Harbor 20",330,220,235,"",0.88105726872246692,26,40,26.666666666666668,23.494860499265787,1,0,null,235]
["Toone","StressLess",null,null,"Harbor 20",212,220,235,"",0.88105726872246692,"",""," ","","RC","","",""]
["Miekina","Synergy",null,null,"Harbor 20",215,220,235,"",0.88105726872246692,"",""," ","","","","",""]
["Lingner","Easy Goer",null,null,"Harbor 20",337,220,235,"",0.88105726872246692,"",""," ","","","","",""]
["Whitt","Destiny",null,null,"Alerion 20",6,220,235,"",0.88105726872246692,"",""," ","","","","",""]
["Runyan","Audacious",null,null,"Alerion 20",51062,220,235,"",0.88105726872246692,"",""," ","","","","",""]
["Blackwater Yacht Racing Association - Race Results - Fleet 2"]
[null,null,null,"Date:","2019-10-05","2019 Fall Series Race 6",null,null,null,null,"RC: Bob Toone/Mark Gobble"]
["Northeast clocking to East 7 falling to zero.  III & IV start first Windward/Leward/Offset once around, I & II Windward/Leeward twice around",null,null,null,null,null,null,null,null,null,null,null,null,null,null,"Time","Time","Approx"]
[null,null,null,null,null,null,"Handicap",null,"TCF",null,"Finish Time",null,"Calc(1)","Adj.(2)",null,"Behind","Behind","H'cap"]
["Skipper","Boat Name","Initials","Guest?","Boat","Sail #","Spin*","Non-Spin*","Spin*","Non-Spin*","Min.","Sec.","Min.dd","Time","Place","Winner","Boat Ahead","to win"]
["Arnold","Sails Call",null,null,"Harbor 20",322,220,235,"",0.88105726872246692,66,31,66.516666666666666,58.604992657856094,2,0.41116005873715977,0.41116005873715977,243]
["Tunnell/Maloney","Courageous",null,null,"Harbor 20",278,220,235,"",0.88105726872246692,69,22,69.36666666666666,61.116005873715118,3,2.922173274596183,2.5110132158590233,292]
["Hemler","Stoic",null,null,"Harbor 20",330,220,235,"",0.88105726872246692,66,3,66.05,58.193832599118934,1,0,null,235]
["Toone","StressLess",null,null,"Harbor 20",212,220,235,"",0.88105726872246692,"",""," ","","RC","","",""]
["Miekina","Synergy",null,null,"Harbor 20",215,220,235,"",0.88105726872246692,"",""," ","","","","",""]
["Lingner","Easy Goer",null,null,"Harbor 20",337,220,235,"",0.88105726872246692,"",""," ","","","","",""]
["Whitt","Destiny",null,null,"Alerion 20",6,220,235,"",0.88105726872246692,"",""," ","","","","",""]
["Runyan","Audacious",null,null,"Alerion 20",51062,220,235,"",0.88105726872246692,"",""," ","","","","",""]
["Blackwater Yacht Racing Association - Race Results - Fleet 2"]
[null,null,null,"Date:","2019-10-19","2019 Fall Series Race 7",null,null,null,null,"RC: Paul Hemler/Lee Arnold"]
["South west backing to South 7-8. Windward Leeward I & II 3X, III & IV 3X",null,null,null,null,null,null,null,null,null,null,null,null,null,null,"Time","Time","Approx"]
[null,null,null,null,null,null,"Handicap",null,"TCF",null,"Finish Time",null,"Calc(1)","Adj.(2)",null,"Behind","Behind","H'cap"]
["Skipper","Boat Name","Initials","Guest?","Boat","Sail #","Spin*","Non-Spin*","Spin*","Non-Spin*","Min.","Sec.","Min.dd","Time","Place","Winner","Boat Ahead","to win"]
["Arnold","Sails Call",null,null,"Harbor 20",322,220,235,"",0.88105726872246692,"",""," ","","RC","","",""]
["Tunnell/Maloney","Courageous",null,null,"Harbor 20",278,220,235,"",0.88105726872246692,73,36,73.599999999999994,64.845814977973561,1,0,null,235]
["Hemler","Stoic",null,null,"Harbor 20",330,220,235,"",0.88105726872246692,"",""," ","","RC","","",""]
["Toone","StressLess",null,null,"Harbor 20",212,220,235,"",0.88105726872246692,79,47,79.783333333333331,70.293685756240819,3,5.4478707782672586,0.95447870778266974,330]
["Miekina","Synergy",null,null,"Harbor 20",215,220,235,"",0.88105726872246692,80,20,80.333333333333329,70.77826725403817,4,5.932452276064609,0.48458149779735038,339]
["Lingner","Easy Goer",null,null,"Harbor 20",337,220,235,"",0.88105726872246692,"",""," ","","","","",""]
["Whitt","Destiny",null,null,"Alerion 20",6,220,235,"",0.88105726872246692,"",""," ","","","","",""]
["Runyan","Audacious",null,null,"Alerion 20",51062,220,235,"",0.88105726872246692,78,42,78.7,69.33920704845815,2,4.4933920704845889,4.4933920704845889,314]
["Blackwater Yacht Racing Association - Race Results - Fleet 2"]
[null,null,null,"Date:","2019-10-19","2019 Fall Series Race 8",null,null,null,null,"RC: Paul Hemler/Lee Arnold"]
["South west backing to South 7-8. Short Road Course Bull Run to PPYC",null,null,null,null,null,null,null,null,null,null,null,null,null,null,"Time","Time","Approx"]
[null,null,null,null,null,null,"Handicap",null,"TCF",null,"Finish Time",null,"Calc(1)","Adj.(2)",null,"Behind","Behind","H'cap"]
["Skipper","Boat Name","Initials","Guest?","Boat","Sail #","Spin*","Non-Spin*","Spin*","Non-Spin*","Min.","Sec.","Min.dd","Time","Place","Winner","Boat Ahead","to win"]
["Arnold","Sails Call",null,null,"Harbor 20",322,220,235,"",0.88105726872246692,"",""," ","","RC","","",""]
["Tunnell/Maloney","Courageous",null,null,"Harbor 20",278,220,235,"",0.88105726872246692,28,38,28.633333333333333,25.227606461086637,1,0,null,235]
["Hemler","Stoic",null,null,"Harbor 20",330,220,235,"",0.88105726872246692,"",""," ","","RC","","",""]
["Toone","StressLess",null,null,"Harbor 20",212,220,235,"",0.88105726872246692,28,48,28.8,25.374449339207047,2,0.14684287812040964,0.14684287812040964,242]
["Miekina","Synergy",null,null,"Harbor 20",215,220,235,"",0.88105726872246692,"",""," ","","","","",""]
["Lingner","Easy Goer",null,null,"Harbor 20",337,220,235,"",0.88105726872246692,"",""," ","","","","",""]
["Whitt","Destiny",null,null,"Alerion 20",6,220,235,"",0.88105726872246692,"",""," ","","","","",""]
["Runyan","Audacious",null,null,"Alerion 20",51062,220,235,"",0.88105726872246692,29,30,29.5,25.991189427312776,3,0.76358296622613864,0.616740088105729,269]

{"sheet":"Fleet 3","index":3,"n_rows":92,"n_cols":18,"rows_kept":92,"cut":false,"hidden":false,"merged":[[81,0,81,14],[82,5,82,8],[83,0,83,14],[84,6,84,7],[84,8,84,9],[84,10,84,11],[70,0,70,14],[71,5,71,8],[72,0,72,14],[73,6,73,7],[73,8,73,9],[73,10,73,11],[59,0,59,14],[60,5,60,8],[61,0,61,14],[62,6,62,7],[62,8,62,9],[62,10,62,11],[48,0,48,14],[49,5,49,8],[50,0,50,14],[51,6,51,7],[51,8,51,9],[51,10,51,11],[37,0,37,14],[38,5,38,8],[39,0,39,14],[40,6,40,7],[40,8,40,9],[40,10,40,11],[26,0,26,14],[27,5,27,8],[28,0,28,14],[29,6,29,7],[29,8,29,9],[29,10,29,11],[15,0,15,14],[16,5,16,8],[17,0,17,14],[18,6,18,7],[18,8,18,9],[18,10,18,11],[4,0,4,14],[6,0,6,14],[7,6,7,7],[7,8,7,9],[7,10,7,11],[5,5,5,8]]}
[]
[]
[{"$f":"#REF!","v":{"$error":"#REF!"}},"<-----Minutes after first start"]
[]
["Blackwater Yacht Racing Association - Race Results - Fleet 3"]
[null,null,null,null,"2019-09-07","2019 Fall Series Race 1",null,null,null,null,"RC: Warren Theis"]
["I & II W/L twice around, III & IV W/L Once around.  Wind light and shifty 4 to 8 mph",null,null,null,null,null,null,null,null,null,null,null,null,null,null,"Time","Time","Approx"]
[null,null,null,null,null,null,"Handicap",null,"TCF",null,"Finish Time",null,"Calc(1)","Adj.(2)",null,"Behind","Behind","H'cap"]
["Skipper","Boat Name","Initials","Guest?","Boat","Sail #","Spin*","Non-Spin*","Spin*","Non-Spin*","Min.","Sec.","Min.dd","Time","Place","Winner","Boat Ahead","to win"]
["Gobble","Always Something",null,null,"Hunter 23",1256,243,258,"",0.86355785837651122,34,52,29.866666666666667,25.791594703511802,2,4.0174011551247055,4.0174011551247055,472]
["Perdue","Debra Ann",null,null,"O'Day 25 CB",13092,238,253,"",0.86730268863833482," "," "," ","","","","",""]
["Hull","Fools Game",null,null,"Pearson 26",1183,216,231,0.89605734767025091,"",29,18,24.3,21.774193548387096,1,0,null,216]
["Perdue","Miss Virginia",null,null,"Hunter 23.5",1309,243,258,0.87489063867016625,"",36,9,31.15,27.252843394575677,3,5.4786498461885813,1.4612486910638758,531]
["Schraw","Second Wind",null,null,"Ericson 23",470,244,259,"",0.86281276962899056," "," "," ","","","","",""]
["Grogan","Twinkle",null,null,"Hunter 23",null,246,261,"",0.8613264427217916," "," "," ","","","","",""]
["Blackwater Yacht Racing Association - Race Results - Fleet 3"]
[null,null,null,null,"2019-09-07","2019 Fall Series Race 2",null,null,null,null,"RC: Warren Theis"]
["I & II W/L twice around, III & IV W/L Once around.  Wind light and shifty 4 to 8 mph",null,null,null,null,null,null,null,null,null,null,null,null,null,null,"Time","Time","Approx"]
[null,null,null,null,null,null,"Handicap",null,"TCF",null,"Finish Time",null,"Calc(1)","Adj.(2)",null,"Behind","Behind","H'cap"]
["Skipper","Boat Name","Initials","Guest?","Boat","Sail #","Spin*","Non-Spin*","Spin*","Non-Spin*","Min.","Sec.","Min.dd","Time","Place","Winner","Boat Ahead","to win"]
["Gobble","Always Something",null,null,"Hunter 23",1256,243,258,"",0.86355785837651122,36,22,31.366666666666667,27.08693149107657,2,0.11560532620201514,0.11560532620201514,263]
["Perdue","Debra Ann",null,null,"O'Day 25 CB",13092,238,253,"",0.86730268863833482," "," "," ","","","","",""]
["Hull","Fools Game",null,null,"Pearson 26",1183,216,231,0.89605734767025091,"",35,6,30.1,26.971326164874554,1,0,null,216]
["Perdue","Miss Virginia",null,null,"Hunter 23.5",1309,243,258,0.87489063867016625,"",39,35,34.583333333333336,30.256634587343253,3,3.2853084224686988,3.1697030962666837,382]
["Schraw","Second Wind",null,null,"Ericson 23",470,244,259,"",0.86281276962899056," "," "," ","","","","",""]
["Grogan","Twinkle",null,null,"Hunter 23",null,246,261,"",0.8613264427217916," "," "," ","","","","",""]
["Blackwater Yacht Racing Association - Race Results - Fleet 3"]
[null,null,null,null,"2019-09-21","2019 Fall Series Race 3",null,null,null,null,"RC: George DeMestro/Bob Grogan"]
["Windward/Leeward - Light east - 4 mph",null,null,null,null,null,null,null,null,null,null,null,null,null,null,"Time","Time","Approx"]
[null,null,null,null,null,null,"Handicap",null,"TCF",null,"Finish Time",null,"Calc(1)","Adj.(2)",null,"Behind","Behind","H'cap"]
["Skipper","Boat Name","Initials","Guest?","Boat","Sail #","Spin*","Non-Spin*","Spin*","Non-Spin*","Min.","Sec.","Min.dd","Time","Place","Winner","Boat Ahead","to win"]
["Gobble","Always Something",null,null,"Hunter 23",1256,243,258,"",0.86355785837651122," "," "," ","","","","",""]
["Perdue","Debra Ann",null,null,"O'Day 25 CB",13092,238,253,"",0.86730268863833482," "," "," ","","","","",""]
["Hull","Fools Game",null,null,"Pearson 26",1183,216,231,"",0.88417329796640143,37,18,32.299999999999997,28.558797524314762,1,0,null,231]
["Perdue","Miss Virginia",null,null,"Hunter 23.5",1309,243,258,"",0.86355785837651122," "," "," ","","","","",""]
["Schraw","Second Wind",null,null,"Ericson 23",470,244,259,"",0.86281276962899056,39,16,34.266666666666666,29.565717572620077,2,1.0069200483053145,1.0069200483053145,300]
["Grogan","Twinkle",null,null,"Hunter 23",null,246,261,"",0.8613264427217916," "," "," ","","RC","","",""]
["Blackwater Yacht Racing Association - Race Results - Fleet 3"]
[null,null,null,null,"2019-09-21","2019 Fall Series Race 4",null,null,null,null,"RC: George DeMestro/Bob Grogan"]
["Windward Leeward Light southeast - 6 mph",null,null,null,null,null,null,null,null,null,null,null,null,null,null,"Time","Time","Approx"]
[null,null,null,null,null,null,"Handicap",null,"TCF",null,"Finish Time",null,"Calc(1)","Adj.(2)",null,"Behind","Behind","H'cap"]
["Skipper","Boat Name","Initials","Guest?","Boat","Sail #","Spin*","Non-Spin*","Spin*","Non-Spin*","Min.","Sec.","Min.dd","Time","Place","Winner","Boat Ahead","to win"]
["Gobble","Always Something",null,null,"Hunter 23",1256,243,258,"",0.86355785837651122," "," "," ","","","","",""]
["Perdue","Debra Ann",null,null,"O'Day 25 CB",13092,238,253,"",0.86730268863833482," "," "," ","","","","",""]
["Hull","Fools Game",null,null,"Pearson 26",1183,216,231,"",0.88417329796640143,60,19,55.31666666666667,48.909519599174779,2,7.221282613267384,7.221282613267384,427]
["Perdue","Miss Virginia",null,null,"Hunter 23.5",1309,243,258,"",0.86355785837651122," "," "," ","","","","",""]
["Schraw","Second Wind",null,null,"Ericson 23",470,244,259,"",0.86281276962899056,53,19,48.31666666666667,41.688236985907395,1,0,null,259]
["Grogan","Twinkle",null,null,"Hunter 23",null,246,261,"",0.8613264427217916," "," "," ","","RC","","",""]
["Blackwater Yacht Racing Association - Race Results - Fleet 3"]
[null,null,null,null,"2019-10-05","2019 Fall Series Race 5",null,null,null,null,"RC: Bob Toone/Mark Gobble"]
["East 7 clocking to SE Windward Leeward Once Around",null,null,null,null,null,null,null,null,null,null,null,null,null,null,"Time","Time","Approx"]
[null,null,null,null,null,null,"Handicap",null,"TCF",null,"Finish Time",null,"Calc(1)","Adj.(2)",null,"Behind","Behind","H'cap"]
["Skipper","Boat Name","Initials","Guest?","Boat","Sail #","Spin*","Non-Spin*","Spin*","Non-Spin*","Min.","Sec.","Min.dd","Time","Place","Winner","Boat Ahead","to win"]
["Gobble","Always Something",null,null,"Hunter 23",1256,243,258,"",0.86355785837651122," "," "," ","","RC","","",""]
["Perdue","Debra Ann",null,null,"O'Day 25 CB",13092,238,253,"",0.86730268863833482," "," "," ","","","","",""]
["Hull","Fools Game",null,null,"Pearson 26",1183,216,231,"",0.88417329796640143,35,12,30.200000000000003,26.702033598585327,1,0,null,231]
["Perdue","Miss Virginia",null,null,"Hunter 23.5",1309,243,258,"",0.86355785837651122,40,31,35.516666666666666,30.670696603339088,3,3.9686630047537612,0.34282775088007256,430]
["Schraw","Second Wind",null,null,"Ericson 23",470,244,259,"",0.86281276962899056,40,9,35.15,30.327868852459016,2,3.6258352538736887,3.6258352538736887,416]
["Grogan","Twinkle",null,null,"Hunter 23",null,246,261,"",0.8613264427217916," "," "," ","","","","",""]
["Blackwater Yacht Racing Association - Race Results - Fleet 3"]
[null,null,null,null,"2019-10-05","2019 Fall Series Race 6",null,null,null,null,"RC: Bob Toone/Mark Gobble"]
["Northeast clocking to East 7 falling to zero.  III & IV start first Windward/Leward/Offset once around, I & II Windward/Leeward twice around",null,null,null,null,null,null,null,null,null,null,null,null,null,null,"Time","Time","Approx"]
[null,null,null,null,null,null,"Handicap",null,"TCF",null,"Finish Time",null,"Calc(1)","Adj.(2)",null,"Behind","Behind","H'cap"]
["Skipper","Boat Name","Initials","Guest?","Boat","Sail #","Spin*","Non-Spin*","Spin*","Non-Spin*","Min.","Sec.","Min.dd","Time","Place","Winner","Boat Ahead","to win"]
["Gobble","Always Something",null,null,"Hunter 23",1256,243,258,"",0.86355785837651122," "," "," ","","RC","","",""]
["Perdue","Debra Ann",null,null,"O'Day 25 CB",13092,238,253,"",0.86730268863833482," "," "," ","","","","",""]
["Hull","Fools Game",null,null,"Pearson 26",1183,216,231,"",0.88417329796640143,46,2,41.033333333333331,36.280577659888003,3,1.9693898543084813,1.7382633248275567,296]
["Perdue","Miss Virginia",null,null,"Hunter 23.5",1309,243,258,"",0.86355785837651122,45,0,40,34.542314335060446,2,0.2311265294809246,0.2311265294809246,266]
["Schraw","Second Wind",null,null,"Ericson 23",470,244,259,"",0.86281276962899056,44,46,39.766666666666666,34.311187805579522,1,0,null,259]
["Grogan","Twinkle",null,null,"Hunter 23",null,246,261,"",0.8613264427217916," "," "," ","","","","",""]
["Blackwater Yacht Racing Association - Race Results - Fleet 3"]
[null,null,null,null,"2019-10-19","2019 Fall Series Race 7",null,null,null,null,"RC: Paul Hemler/Lee Arnold"]
["South west backing to South 7-8. Windward Leeward I & II 3X, III & IV 3X",null,null,null,null,null,null,null,null,null,null,null,null,null,null,"Time","Time","Approx"]
[null,null,null,null,null,null,"Handicap",null,"TCF",null,"Finish Time",null,"Calc(1)","Adj.(2)",null,"Behind","Behind","H'cap"]
["Skipper","Boat Name","Initials","Guest?","Boat","Sail #","Spin*","Non-Spin*","Spin*","Non-Spin*","Min.","Sec.","Min.dd","Time","Place","Winner","Boat Ahead","to win"]
["Gobble","Always Something",null,null,"Hunter 23",1256,243,258,"",0.86355785837651122,70,47,65.783333333333331,56.807714450201495,3,5.0604026222445029,1.6739784709089918,371]
["Perdue","Debra Ann",null,null,"O'Day 25 CB",13092,238,253,"",0.86730268863833482," "," "," ","","","","",""]
["Hull","Fools Game",null,null,"Pearson 26",1183,216,231,0.89605734767025091,"",62,45,57.75,51.747311827956992,1,0,null,216]
["Perdue","Miss Virginia",null,null,"Hunter 23.5",1309,243,258,0.87489063867016625,"",71,38,66.63333333333334,58.296879556722082,4,6.5495677287650906,1.4891651065205878,388]
["Schraw","Second Wind",null,null,"Ericson 23",470,244,259,"",0.86281276962899056,68,54,63.900000000000006,55.133735979292503,2,3.3864241513355111,3.3864241513355111,335]
["Grogan","Twinkle",null,null,"Hunter 23",null,246,261,"",0.8613264427217916," "," "," ","","","","",""]
["Blackwater Yacht Racing Association - Race Results - Fleet 3"]
[null,null,null,null,"2019-10-19","2019 Fall Series Race 8",null,null,null,null,"RC: Paul Hemler/Lee Arnold"]
["South west backing to South 7-8. Short Road Course Bull Run to PPYC",null,null,null,null,null,null,null,null,null,null,null,null,null,null,"Time","Time","Approx"]
[null,null,null,null,null,null,"Handicap",null,"TCF",null,"Finish Time",null,"Calc(1)","Adj.(2)",null,"Behind","Behind","H'cap"]
["Skipper","Boat Name","Initials","Guest?","Boat","Sail #","Spin*","Non-Spin*","Spin*","Non-Spin*","Min.","Sec.","Min.dd","Time","Place","Winner","Boat Ahead","to win"]
["Gobble","Always Something",null,null,"Hunter 23",1256,243,258,"",0.86355785837651122,38,24,33.4,28.842832469775473,4,3.3610953400659547,0.97544895723066816,411]
["Perdue","Debra Ann",null,null,"O'Day 25 CB",13092,238,253,"",0.86730268863833482," "," "," ","","","","",""]
["Hull","Fools Game",null,null,"Pearson 26",1183,216,231,0.89605734767025091,"",36,6,31.1,27.867383512544805,3,2.3856463828352865,1.5915013311508126,320]
["Perdue","Miss Virginia",null,null,"Hunter 23.5",1309,243,258,0.87489063867016625,"",35,2,30.033333333333331,26.275882181393992,2,0.79414505168447391,0.79414505168447391,279]
["Schraw","Second Wind",null,null,"Ericson 23",470,244,259,"",0.86281276962899056,34,32,29.533333333333331,25.481737129709519,1,0,null,259]
["Grogan","Twinkle",null,null,"Hunter 23",null,246,261,"",0.8613264427217916," "," "," ","","","","",""]

{"sheet":"Fleet 4","index":4,"n_rows":76,"n_cols":18,"rows_kept":76,"cut":false,"hidden":false,"merged":[[67,0,67,14],[68,5,68,8],[69,0,69,14],[70,6,70,7],[70,8,70,9],[70,10,70,11],[58,0,58,14],[59,5,59,8],[60,0,60,14],[61,6,61,7],[61,8,61,9],[61,10,61,11],[49,0,49,14],[50,5,50,8],[51,0,51,14],[52,6,52,7],[52,8,52,9],[52,10,52,11],[40,0,40,14],[41,5,41,8],[42,0,42,14],[43,6,43,7],[43,8,43,9],[43,10,43,11],[31,0,31,14],[32,5,32,8],[33,0,33,14],[34,6,34,7],[34,8,34,9],[34,10,34,11],[22,0,22,14],[23,5,23,8],[24,0,24,14],[25,6,25,7],[25,8,25,9],[25,10,25,11],[13,0,13,14],[14,5,14,8],[15,0,15,14],[16,6,16,7],[16,8,16,9],[16,10,16,11],[4,0,4,14],[6,0,6,14],[7,6,7,7],[7,8,7,9],[7,10,7,11],[5,5,5,8]]}
[]
[]
[{"$f":"#REF!","v":{"$error":"#REF!"}},"<-----Minutes after first start"]
[]
["Blackwater Yacht Racing Association - Race Results - Fleet 4"]
[null,null,null,"Date:","2019-09-07","2019 Fall Series Race 1",null,null,null,null,"RC: Warren Theis"]
["I & II W/L twice around, III & IV W/L Once around.  Wind light and shifty 4 to 8 mph",null,null,null,null,null,null,null,null,null,null,null,null,null,null,"Time","Time","Approx"]
[null,null,null,null,null,null,"Handicap",null,"TCF",null,"Finish Time",null,"Calc(1)","Adj.(2)",null,"Behind","Behind","H'cap"]
["Skipper","Boat Name","Initials","Guest?","Boat","Sail #","Spin*","Non-Spin*","Spin*","Non-Spin*","Min.","Sec.","Min.dd","Time","Place","Winner","Boat Ahead","to win"]
["Oginz","Alarming",null,null,"S-2 9.2",505,189,204,"",0.90579710144927539,36,50,31.833333333333336,28.834541062801936,2,3.5652274278373319,3.5652274278373319,360]
["Johnson","Felicite",null,null,"S-2 27 IB",13,194,209,"",0.90171325518485124," "," "," ","","","","",""]
["DeMestro","Little Wing",null,null,"Beneteau 29",485,168,183,"",0.92336103416435822,32,22,27.366666666666667,25.269313634964604,1,0,null,183]
["Gearhart","More Mischief",null,null,"Beneteau 285",144,199,214,"",0.89766606822262118," "," "," ","","","","",""]
["Blackwater Yacht Racing Association - Race Results - Fleet 4"]
[null,null,null,"Date:","2019-09-07","2019 Fall Series Race 2",null,null,null,null,"RC: Warren Theis"]
["I & II W/L twice around, III & IV W/L Once around.  Wind light and shifty 4 to 8 mph",null,null,null,null,null,null,null,null,null,null,null,null,null,null,"Time","Time","Approx"]
[null,null,null,null,null,null,"Handicap",null,"TCF",null,"Finish Time",null,"Calc(1)","Adj.(2)",null,"Behind","Behind","H'cap"]
["Skipper","Boat Name","Initials","Guest?","Boat","Sail #","Spin*","Non-Spin*","Spin*","Non-Spin*","Min.","Sec.","Min.dd","Time","Place","Winner","Boat Ahead","to win"]
["Oginz","Alarming",null,null,"S-2 9.2",505,189,204,"",0.90579710144927539,36,13,31.216666666666669,28.27596618357488,2,3.3452182611372088,3.3452182611372088,352]
["Johnson","Felicite",null,null,"S-2 27 IB",13,194,209,"",0.90171325518485124," "," "," ","","","","",""]
["DeMestro","Little Wing",null,null,"Beneteau 29",485,168,183,"",0.92336103416435822,32,0,27,24.930747922437671,1,0,null,183]
["Gearhart","More Mischief",null,null,"Beneteau 285",144,199,214,"",0.89766606822262118," "," "," ","","","","",""]
["Blackwater Yacht Racing Association - Race Results - Fleet 4"]
[null,null,null,"Date:","2019-09-21","2019 Fall Series Race 3",null,null,null,null,"RC: George DeMestro/Bob Grogan"]
["Windward/Leeward - Light east - 4 mph",null,null,null,null,null,null,null,null,null,null,null,null,null,null,"Time","Time","Approx"]
[null,null,null,null,null,null,"Handicap",null,"TCF",null,"Finish Time",null,"Calc(1)","Adj.(2)",null,"Behind","Behind","H'cap"]
["Skipper","Boat Name","Initials","Guest?","Boat","Sail #","Spin*","Non-Spin*","Spin*","Non-Spin*","Min.","Sec.","Min.dd","Time","Place","Winner","Boat Ahead","to win"]
["Oginz","Alarming",null,null,"S-2 9.2",505,189,204,"",0.90579710144927539,39,56,34.93333333333333,31.642512077294683,2,1.241554566821911,1.241554566821911,249]
["Johnson","Felicite",null,null,"S-2 27 IB",13,194,209,"",0.90171325518485124," "," "," ","","","","",""]
["DeMestro","Little Wing",null,null,"Beneteau 29",485,168,183,"",0.92336103416435822," "," "," ","","RC","","",""]
["Gearhart","More Mischief",null,null,"Beneteau 285",8,199,214,"",0.89766606822262118,38,52,33.866666666666667,30.400957510472772,1,0,null,214]
["Blackwater Yacht Racing Association - Race Results - Fleet 4"]
[null,null,null,"Date:","2019-09-21","2019 Fall Series Race 4",null,null,null,null,"RC: George DeMestro/Bob Grogan"]
["Windward Leeward Light southeast - 6 mph",null,null,null,null,null,null,null,null,null,null,null,null,null,null,"Time","Time","Approx"]
[null,null,null,null,null,null,"Handicap",null,"TCF",null,"Finish Time",null,"Calc(1)","Adj.(2)",null,"Behind","Behind","H'cap"]
["Skipper","Boat Name","Initials","Guest?","Boat","Sail #","Spin*","Non-Spin*","Spin*","Non-Spin*","Min.","Sec.","Min.dd","Time","Place","Winner","Boat Ahead","to win"]
["Oginz","Alarming",null,null,"S-2 9.2",505,189,204,"",0.90579710144927539,67,52,62.86666666666666,56.944444444444443,2,8.6649710752044697,8.6649710752044697,402]
["Johnson","Felicite",null,null,"S-2 27 IB",13,194,209,"",0.90171325518485124," "," "," ","","","","",""]
["DeMestro","Little Wing",null,null,"Beneteau 29",485,168,183,"",0.92336103416435822," "," "," ","","RC","","",""]
["Gearhart","More Mischief",null,null,"Beneteau 285",144,199,214,"",0.89766606822262118,58,47,53.783333333333331,48.279473369239973,1,0,null,214]
["Blackwater Yacht Racing Association - Race Results - Fleet 4"]
[null,null,null,"Date:","2019-10-05","2019 Fall Series Race 5",null,null,null,null,"RC: Bob Toone/Mark Gobble"]
["East 7 clocking to SE Windward Leeward Once Around",null,null,null,null,null,null,null,null,null,null,null,null,null,null,"Time","Time","Approx"]
[null,null,null,null,null,null,"Handicap",null,"TCF",null,"Finish Time",null,"Calc(1)","Adj.(2)",null,"Behind","Behind","H'cap"]
["Skipper","Boat Name","Initials","Guest?","Boat","Sail #","Spin*","Non-Spin*","Spin*","Non-Spin*","Min.","Sec.","Min.dd","Time","Place","Winner","Boat Ahead","to win"]
["Oginz","Alarming",null,null,"S-2 9.2",505,189,204,"",0.90579710144927539,40,38,35.633333333333333,32.276570048309182,2,7.4843262809961608,7.4843262809961608,537]
["Johnson","Felicite",null,null,"S-2 27 IB",13,194,209,"",0.90171325518485124," "," "," ","","","","",""]
["DeMestro","Little Wing",null,null,"Beneteau 29",485,168,183,"",0.92336103416435822,31,51,26.85,24.792243767313021,1,0,null,183]
["Gearhart","More Mischief",null,null,"Beneteau 285",144,199,214,"",0.89766606822262118," "," "," ","","","","",""]
["Blackwater Yacht Racing Association - Race Results - Fleet 4"]
[null,null,null,"Date:","2019-10-05","2019 Fall Series Race 6",null,null,null,null,"RC: Bob Toone/Mark Gobble"]
["Northeast clocking to East 7 falling to zero.  III & IV start first Windward/Leward/Offset once around, I & II Windward/Leeward twice around",null,null,null,null,null,null,null,null,null,null,null,null,null,null,"Time","Time","Approx"]
[null,null,null,null,null,null,"Handicap",null,"TCF",null,"Finish Time",null,"Calc(1)","Adj.(2)",null,"Behind","Behind","H'cap"]
["Skipper","Boat Name","Initials","Guest?","Boat","Sail #","Spin*","Non-Spin*","Spin*","Non-Spin*","Min.","Sec.","Min.dd","Time","Place","Winner","Boat Ahead","to win"]
["Oginz","Alarming",null,null,"S-2 9.2",505,189,204,"",0.90579710144927539,52,53,47.883333333333333,43.3725845410628,2,8.2386971911089688,8.2386971911089688,463]
["Johnson","Felicite",null,null,"S-2 27 IB",13,194,209,"",0.90171325518485124," "," "," ","","","","",""]
["DeMestro","Little Wing",null,null,"Beneteau 29",485,168,183,"",0.92336103416435822,43,3,38.049999999999997,35.133887349953831,1,0,null,183]
["Gearhart","More Mischief",null,null,"Beneteau 285",144,199,214,"",0.89766606822262118," "," "," ","","","","",""]
["Blackwater Yacht Racing Association - Race Results - Fleet 4"]
[null,null,null,"Date:","2019-10-19","2019 Fall Series Race 7",null,null,null,null,"RC: Paul Hemler/Lee Arnold"]
["South west backing to South 7-8. Windward Leeward I & II 3X, III & IV 3X",null,null,null,null,null,null,null,null,null,null,null,null,null,null,"Time","Time","Approx"]
[null,null,null,null,null,null,"Handicap",null,"TCF",null,"Finish Time",null,"Calc(1)","Adj.(2)",null,"Behind","Behind","H'cap"]
["Skipper","Boat Name","Initials","Guest?","Boat","Sail #","Spin*","Non-Spin*","Spin*","Non-Spin*","Min.","Sec.","Min.dd","Time","Place","Winner","Boat Ahead","to win"]
["Oginz","Alarming",null,null,"S-2 9.2",505,189,204,"",0.90579710144927539,69,41,64.683333333333337,58.589975845410635,1,0,null,204]
["Johnson","Felicite",null,null,"S-2 27 IB",13,194,209,"",0.90171325518485124," "," "," ","","","","",""]
["DeMestro","Little Wing",null,null,"Beneteau 29",485,168,183,"",0.92336103416435822,"DNS","DNS","DNS","DNS",3,"","",""]
["Gearhart","More Mischief",null,null,"Beneteau 285",144,199,214,"",0.89766606822262118," "," "," ","","","","",""]
["Blackwater Yacht Racing Association - Race Results - Fleet 4"]
[null,null,null,"Date:","2019-10-19","2019 Fall Series Race 8",null,null,null,null,"RC: Paul Hemler/Lee Arnold"]
["South west backing to South 7-8. Short Road Course Bull Run to PPYC",null,null,null,null,null,null,null,null,null,null,null,null,null,null,"Time","Time","Approx"]
[null,null,null,null,null,null,"Handicap",null,"TCF",null,"Finish Time",null,"Calc(1)","Adj.(2)",null,"Behind","Behind","H'cap"]
["Skipper","Boat Name","Initials","Guest?","Boat","Sail #","Spin*","Non-Spin*","Spin*","Non-Spin*","Min.","Sec.","Min.dd","Time","Place","Winner","Boat Ahead","to win"]
["Oginz","Alarming",null,null,"S-2 9.2",505,189,204,"",0.90579710144927539,38,26,33.43333333333333,30.283816425120772,1,0,null,204]
["Johnson","Felicite",null,null,"S-2 27 IB",13,194,209,"",0.90171325518485124," "," "," ","","","","",""]
["DeMestro","Little Wing",null,null,"Beneteau 29",485,168,183,"",0.92336103416435822,null,null,null,null,null,"","",""]
["Gearhart","More Mischief",null,null,"Beneteau 285",144,199,214,"",0.89766606822262118," "," "," ","","","","",""]

{"sheet":"Harbor 20 Fleet 7","index":5,"n_rows":96,"n_cols":15,"rows_kept":96,"cut":false,"hidden":false,"merged":[[88,6,88,7],[74,0,74,8],[76,0,76,8],[77,6,77,7],[85,0,85,8],[87,0,87,8],[66,6,66,7],[52,0,52,8],[54,0,54,8],[55,6,55,7],[63,0,63,8],[65,0,65,8],[41,0,41,8],[43,0,43,8],[44,6,44,7],[30,0,30,8],[32,0,32,8],[33,6,33,7],[22,6,22,7],[11,6,11,7],[8,0,8,8],[10,0,10,8],[19,0,19,8],[21,0,21,8]]}
[]
[]
[]
[]
[{"$f":"'Fleet 1'!A16","v":0},{"$f":"'Fleet 1'!B16","v":0},null,null,{"$f":"'Fleet 1'!E16","v":43715},{"$f":"'Fleet 1'!F16","v":"2019 Fall Series Race 2"},{"$f":"'Fleet 1'!G16","v":0},{"$f":"'Fleet 1'!H16","v":0},{"$f":"'Fleet 1'!I16","v":0},{"$f":"'Fleet 1'!J16","v":0},{"$f":"'Fleet 1'!K16","v":"RC: Warren Theis"},{"$f":"'Fleet 1'!L16","v":0},{"$f":"'Fleet 1'!M16","v":0},{"$f":"'Fleet 1'!N16","v":0},{"$f":"'Fleet 1'!O16","v":0}]
[{"$f":"'Fleet 1'!A17","v":"I & II W/L twice around, III & IV W/L Once around.  Wind light and shifty 4 to 8 mph"},{"$f":"'Fleet 1'!B17","v":0},null,null,{"$f":"'Fleet 1'!E17","v":0},{"$f":"'Fleet 1'!F17","v":0},{"$f":"'Fleet 1'!G17","v":0},{"$f":"'Fleet 1'!H17","v":0},{"$f":"'Fleet 1'!I17","v":0},{"$f":"'Fleet 1'!J17","v":0},{"$f":"'Fleet 1'!K17","v":0},{"$f":"'Fleet 1'!L17","v":0},{"$f":"'Fleet 1'!M17","v":0},{"$f":"'Fleet 1'!N17","v":0},{"$f":"'Fleet 1'!O17","v":0}]
[{"$f":"'Fleet 1'!A18","v":0},{"$f":"'Fleet 1'!B18","v":0},null,null,{"$f":"'Fleet 1'!E18","v":0},{"$f":"'Fleet 1'!F18","v":0},{"$f":"'Fleet 1'!G18","v":"Handicap"},{"$f":"'Fleet 1'!H18","v":0},{"$f":"'Fleet 1'!I18","v":"TCF"},{"$f":"'Fleet 1'!J18","v":0},{"$f":"'Fleet 1'!K18","v":"Finish Time"},{"$f":"'Fleet 1'!L18","v":0},{"$f":"'Fleet 1'!M18","v":"Calc(1)"},{"$f":"'Fleet 1'!N18","v":"Adj.(2)"},{"$f":"'Fleet 1'!O18","v":0}]
[{"$f":"'Fleet 1'!A19","v":"Skipper"},{"$f":"'Fleet 1'!B19","v":"Boat Name"},null,null,{"$f":"'Fleet 1'!E19","v":"Boat"},{"$f":"'Fleet 1'!F19","v":"Sail #"},{"$f":"'Fleet 1'!G19","v":"Spin*"},{"$f":"'Fleet 1'!H19","v":"Non-Spin*"},{"$f":"'Fleet 1'!I19","v":"Spin*"},{"$f":"'Fleet 1'!J19","v":"Non-Spin*"},{"$f":"'Fleet 1'!K19","v":"Min."},{"$f":"'Fleet 1'!L19","v":"Sec."},{"$f":"'Fleet 1'!M19","v":"Min.dd"},{"$f":"'Fleet 1'!N19","v":"Time"},{"$f":"'Fleet 1'!O19","v":"Place"}]
["Smith Mountain Lake Harbor 20 Fleet 7"]
["Date: ","2019-09-07",null,"2019 Fall Series Race 1",null,"RC: Warren Theis"]
["I & II W/L twice around, III & IV W/L Once around.  Wind light and shifty 4 to 8 mph"]
[null,null,null,null,null,null,"Finish Time"]
["Skipper","Boat Name","Sail\nNumber","Check in","Boat","Sail #","Min.","Sec.","Place"]
["Arnold","Sails Call",null,null,"Harbor 20",322,43,20,1]
["Tunnell/Maloney","Courageous",null,null,"Harbor 20",278,44,44,2]
["Hemler","Stoic",null,null,"Harbor 20",330,44,52,3]
["Toone","StressLess",null,null,"Harbor 20",212,45,49,4]
["Miekina","Synergy",null,null,"Harbor 20",215,48,5,5]
["Lingner","Easy Goer",null,null,"Harbor 20",337,"",""]
["Smith Mountain Lake Harbor 20 Fleet 7"]
["Date: ","2019-09-07",null,"2019 Fall Series Race 2",null,"RC: Warren Theis"]
["I & II W/L twice around, III & IV W/L Once around.  Wind light and shifty 4 to 8 mph"]
[null,null,null,null,null,null,"Finish Time"]
["Skipper","Boat Name","Sail\nNumber","Check in","Boat","Sail #","Min.","Sec.","Place"]
["Arnold","Sails Call",null,null,"Harbor 20",322,52,20,4]
["Tunnell/Maloney","Courageous",null,null,"Harbor 20",278,52,1,3]
["Hemler","Stoic",null,null,"Harbor 20",330,50,59,1]
["Toone","StressLess",null,null,"Harbor 20",212,51,20,2]
["Miekina","Synergy",null,null,"Harbor 20",215,53,4,5]
["Lingner","Easy Goer",null,null,"Harbor 20",337,"",""]
["Smith Mountain Lake Harbor 20 Fleet 7"]
["Date:","2019-09-21","2019 Fall Series Race 3",null,null,"RC: George DeMestro/Bob Grogan"]
["Windward/Leeward - Light east - 4 mph"]
[null,null,null,null,null,null,"Finish Time"]
["Skipper","Boat Name","Sail\nNumber","Check in","Boat","Sail #","Min.","Sec.","Place"]
["Arnold","Sails Call",null,null,"Harbor 20",322,"DNF","DNF",5]
["Tunnell/Maloney","Courageous",null,null,"Harbor 20",278,58,19,2]
["Hemler","Stoic",null,null,"Harbor 20",330,57,54,1]
["Toone","StressLess",null,null,"Harbor 20",212,58,35,3]
["Miekina","Synergy",null,null,"Harbor 20",215,"",""]
["Lingner","Easy Goer",null,null,"Harbor 20",337,"",""]
["Smith Mountain Lake Harbor 20 Fleet 7"]
["Date:","2019-09-21","2019 Fall Series Race 4",null,null,"RC: George DeMestro/Bob Grogan"]
["Windward/Leeward - Light east - 4 mph"]
[null,null,null,null,null,null,"Finish Time"]
["Skipper","Boat Name","Sail\nNumber","Check in","Boat","Sail #","Min.","Sec.","Place"]
["Arnold","Sails Call",null,null,"Harbor 20",322,62,45,3]
["Tunnell/Maloney","Courageous",null,null,"Harbor 20",278,62,9,1]
["Hemler","Stoic",null,null,"Harbor 20",330,62,33,2]
["Toone","StressLess",null,null,"Harbor 20",212,65,53,4]
["Miekina","Synergy",null,null,"Harbor 20",215,"",""]
["Lingner","Easy Goer",null,null,"Harbor 20",337,"",""]
["Smith Mountain Lake Harbor 20 Fleet 7"]
["Date: ","2019-10-05",null,"2019 Fall Series Race 5",null,"RC: Bob Toone/Mark Gobble"]
["East 7 clocking to SE Windward Leeward Once Around"]
[null,null,null,null,null,null,"Finish Time"]
["Skipper","Boat Name","Sail\nNumber","Check in","Boat","Sail #","Min.","Sec.","Place"]
["Arnold","Sails Call",null,null,"Harbor 20",322,28,6,2]
["Tunnell/Maloney","Courageous",null,null,"Harbor 20",278,28,47,3]
["Hemler","Stoic",null,null,"Harbor 20",330,26,40,1]
["Toone","StressLess",null,null,"Harbor 20",212,"",""]
["Miekina","Synergy",null,null,"Harbor 20",215,"",""]
["Lingner","Easy Goer",null,null,"Harbor 20",337,"",""]
["Smith Mountain Lake Harbor 20 Fleet 7"]
["Date: ","2019-10-05",null,"2019 Fall Series Race 6",null,"RC: Bob Toone/Mark Gobble"]
["Northeast clocking to East 7 falling to zero.  III & IV start first Windward/Leward/Offset once around, I & II Windward/Leeward twice around"]
[null,null,null,null,null,null,"Finish Time"]
["Skipper","Boat Name","Sail\nNumber","Check in","Boat","Sail #","Min.","Sec.","Place"]
["Arnold","Sails Call",null,null,"Harbor 20",322,66,31,2]
["Tunnell/Maloney","Courageous",null,null,"Harbor 20",278,69,22,3]
["Hemler","Stoic",null,null,"Harbor 20",330,66,3,1]
["Toone","StressLess",null,null,"Harbor 20",212,"",""]
["Miekina","Synergy",null,null,"Harbor 20",215,"",""]
["Lingner","Easy Goer",null,null,"Harbor 20",337,"",""]
["Smith Mountain Lake Harbor 20 Fleet 7"]
["Date: ","2019-10-19",null,"2019 Fall Series Race 7",null,"RC: Paul Hemler/Lee Arnold"]
["South west backing to South 7-8. Windward Leeward I & II 3X, III & IV 3X"]
[null,null,null,null,null,null,"Finish Time"]
["Skipper","Boat Name","Sail\nNumber","Check in","Boat","Sail #","Min.","Sec.","Place"]
["Arnold","Sails Call",null,null,"Harbor 20",322,"",""]
["Tunnell/Maloney","Courageous",null,null,"Harbor 20",278,73,36,1]
["Hemler","Stoic",null,null,"Harbor 20",330,"",""]
["Toone","StressLess",null,null,"Harbor 20",212,79,47,2]
["Miekina","Synergy",null,null,"Harbor 20",215,80,20,3]
["Lingner","Easy Goer",null,null,"Harbor 20",337,"",""]
["Smith Mountain Lake Harbor 20 Fleet 7"]
["Date: ","2019-10-19",null,"2019 Fall Series Race 8",null,"RC: Paul Hemler/Lee Arnold"]
["South west backing to South 7-8. Short Road Course Bull Run to PPYC"]
[null,null,null,null,null,null,"Finish Time"]
["Skipper","Boat Name","Sail\nNumber","Check in","Boat","Sail #","Min.","Sec.","Place"]
["Arnold","Sails Call",null,null,"Harbor 20",322,"",""]
["Tunnell/Maloney","Courageous",null,null,"Harbor 20",278,28,38,1]
["Hemler","Stoic",null,null,"Harbor 20",330,"",""]
["Toone","StressLess",null,null,"Harbor 20",212,28,48,2]
["Miekina","Synergy",null,null,"Harbor 20",215,"",""]
["Lingner","Easy Goer",null,null,"Harbor 20",337,"",""]

{"sheet":"Spring Series Scoring Summary","index":6,"n_rows":48,"n_cols":21,"rows_kept":48,"cut":false,"hidden":true,"merged":[[2,0,2,9],[13,0,13,9],[27,0,27,9],[39,0,39,9]]}
[]
[]
["Blackwater Yacht Racing Association - Race Results - Fleet 1"]
[]
[]
[null,null,null,"Race 1","Race 5","Race 6","Race 7","Race 8","MakeUp 1","MakeUp 2",null,"# of Races","Total","Throw","# of Races","Points","Average","Overall"]
["Skipper","Boat Name","Boat","Place","Place","Place","Place","Place","Place","Place",null,null,"Points","Out","Less Tout","Less Tout","Finish","Rank"]
["Cliborne","Bandit","J/24",1,1,2,2,1,1,"",null,{"$f":"COUNT(D8:J8)","v":6},{"$f":"SUM(D8:J8)","v":8},2,{"$f":"IF(N8>0,L8-1,L8)","v":5},{"$f":"M8-N8","v":6},{"$f":"P8/O8","v":1.2},{"$f":"RANK(Q8,Q$8:Q$12,1)","v":1},null,"ThrowOut"]
["Schaible","Spider","B25",2.75,4,3,"","",2,2,null,{"$f":"COUNT(D9:J9)","v":5},{"$f":"SUM(D9:J9)","v":13.75},0,{"$f":"IF(N9>0,L9-1,L9)","v":5},{"$f":"M9-N9","v":13.75},{"$f":"P9/O9","v":2.75},{"$f":"RANK(Q9,Q$8:Q$12,1)","v":3}]
["Forqurean","Dark Horse","J/24","",2,1,1,2,3,1,null,{"$f":"COUNT(D10:J10)","v":6},{"$f":"SUM(D10:J10)","v":10},3,{"$f":"IF(N10>0,L10-1,L10)","v":5},{"$f":"M10-N10","v":7},{"$f":"P10/O10","v":1.4},{"$f":"RANK(Q10,Q$8:Q$12,1)","v":2},null,"ThrowOut"]
["Theis","Gotcha","S-2 6.7",2,5,4,"","",4,3,null,{"$f":"COUNT(D11:J11)","v":5},{"$f":"SUM(D11:J11)","v":18},0,{"$f":"IF(N11>0,L11-1,L11)","v":5},{"$f":"M11-N11","v":18},{"$f":"P11/O11","v":3.6},{"$f":"RANK(Q11,Q$8:Q$12,1)","v":5}]
["Evans","Severence","C&C 25",3,3,5,3,3,3.5,3.5,null,{"$f":"COUNT(D12:J12)","v":7},{"$f":"SUM(D12:J12)","v":24},5,{"$f":"IF(N12>0,L12-1,L12)","v":6},{"$f":"M12-N12","v":19},{"$f":"P12/O12","v":3.1666666666666665},{"$f":"RANK(Q12,Q$8:Q$12,1)","v":4},null,"ThrowOut","RC Scores"]
[null,null,null,""]
["Blackwater Yacht Racing Association - Race Results - Fleet 2"]
[]
[]
[null,null,null,"Race 1","Race 5","Race 6","Race 7","Race 8","MakeUp 1","MakeUp 2",null,"# of Races","Total","Throw","# of Races","Points","Average","Overall"]
["Skipper","Boat Name","Boat","Place","Place","Place","Place","Place","Place","Place",null,null,"Points","Out","Less Tout","Less Tout","Finish","Rank"]
["Arnold","Sails Call","Harbor 20",3,1,1,"","",2,1,null,{"$f":"COUNT(D19:J19)","v":5},{"$f":"SUM(D19:J19)","v":8},0,{"$f":"IF(N19>0,L19-1,L19)","v":5},{"$f":"M19-N19","v":8},{"$f":"P19/O19","v":1.6},{"$f":"RANK(Q19,Q$19:Q$26,1)","v":2}]
["Tunnell/Maloney","Courageous","Harbor 20",2,5,"",1,1,1,2,null,{"$f":"COUNT(D20:J20)","v":6},{"$f":"SUM(D20:J20)","v":12},5,5,7,1.4,{"$f":"RANK(Q20,Q$19:Q$26,1)","v":1},null,"ThrowOut"]
["Hemler","Stoic","Harbor 20",1,2,2,"","","","",null,{"$f":"COUNT(D21:J21)","v":3},{"$f":"SUM(D21:J21)","v":5},0,3,5,1.6666666666666667,"DNQ",null,"Did Not Qualify"]
["Toone","StressLess","Harbor 20",6,4,3,2,2,3,3,null,{"$f":"COUNT(D22:J22)","v":7},{"$f":"SUM(D22:J22)","v":23},6,6,17,2.8333333333333335,3,null,"ThrowOut"]
["Miekina","Synergy","Harbor 20",4,"RC","RC","","","","",null,{"$f":"COUNT(D23:J23)","v":1},{"$f":"SUM(D23:J23)","v":4},0,1,4,4,"DNQ",null,"Did Not Qualify"]
["Lingner","Easy Goer","Harbor 20",3.5,"",null,3,3,4,4,null,{"$f":"COUNT(D24:J24)","v":5},{"$f":"SUM(D24:J24)","v":17.5},0,5,17.5,3.5,4,null,"RC Scores"]
["Whitt","Destiny","Alerion 20",5,3,5,"","","","",null,{"$f":"COUNT(D25:J25)","v":3},{"$f":"SUM(D25:J25)","v":13},0,3,13,4.333333333333333,"DNQ",null,"Did Not Qualify"]
["Runyan","Audacious","Alerion 20",7,6,4,"","",5,5,null,{"$f":"COUNT(D26:J26)","v":5},{"$f":"SUM(D26:J26)","v":27},0,5,27,5.4,5]
[]
["Blackwater Yacht Racing Association - Race Results - Fleet 3"]
[]
[]
[null,null,null,"Race 1","Race 5","Race 6","Race 7","Race 8","MakeUp 1","MakeUp 2",null,"# of Races","Total","Throw","# of Races","Points","Average","Overall"]
["Skipper","Boat Name","Boat","Place","Place","Place","Place","Place","Place","Place",null,null,"Points","Out","Less Tout","Less Tout","Finish","Rank"]
["Gobble","Always Something","Hunter 23","",3,4,"","","","",null,{"$f":"COUNT(D33:J33)","v":2},{"$f":"SUM(D33:J33)","v":7},0,{"$f":"IF(N33>0,L33-1,L33)","v":2},{"$f":"M33-N33","v":7},{"$f":"P33/O33","v":3.5},"DNQ",null,"Did Not Qualify"]
["Perdue","Debra Ann","O'Day 25 CB","","","","","","","",null,{"$f":"COUNT(D34:J34)","v":0},{"$f":"SUM(D34:J34)","v":0},0,0,0]
["Hull","Fools Game","Pearson 26",4,1,1,1.25,1.25,2,1,null,{"$f":"COUNT(D35:J35)","v":7},{"$f":"SUM(D35:J35)","v":11.5},4,6,7.5,{"$f":"P35/O35","v":1.25},{"$f":"RANK(Q35,Q$33:Q$38,1)","v":1},null,"ThrowOut","RC Scores"]
["Perdue","Miss Virginia","Hunter 23.5",2,5,5,"","","","",null,{"$f":"COUNT(D36:J36)","v":3},{"$f":"SUM(D36:J36)","v":12},0,3,12,{"$f":"P36/O36","v":4},"DNQ",null,"Did Not Qualify"]
["Schraw","Second Wind","Ericson 23",3,4,3,1,1,3,3,null,{"$f":"COUNT(D37:J37)","v":7},{"$f":"SUM(D37:J37)","v":18},4,6,14,{"$f":"P37/O37","v":2.3333333333333335},{"$f":"RANK(Q37,Q$33:Q$38,1)","v":3},null,"ThrowOut"]
["Grogan","Twinkle","Hunter 23",1,2,2,2,2,1,2,null,{"$f":"COUNT(D38:J38)","v":7},{"$f":"SUM(D38:J38)","v":12},2,6,10,{"$f":"P38/O38","v":1.6666666666666667},{"$f":"RANK(Q38,Q$33:Q$38,1)","v":2},null,"ThrowOut"]
[]
["Blackwater Yacht Racing Association - Race Results - Fleet 4"]
[]
[]
[null,null,null,"Race 1","Race 5","Race 6","Race 7","Race 8","MakeUp 1","MakeUp 2",null,"# of Races","Total","Throw","# of Races","Points","Average","Overall"]
["Skipper","Boat Name","Boat","Place","Place","Place","Place","Place","Place","Place",null,null,"Points","Out","Less Tout","Less Tout","Finish","Rank"]
["Oginz","Alarming","S-2 9.2",1,2,2,1,1,2,2,null,{"$f":"COUNT(D45:J45)","v":7},{"$f":"SUM(D45:J45)","v":11},2,{"$f":"IF(N45>0,L45-1,L45)","v":6},{"$f":"M45-N45","v":9},{"$f":"P45/O45","v":1.5},{"$f":"RANK(Q45,Q$45:Q$48,1)","v":2},null,"ThrowOut"]
["Johnson","Felicite","S-2 27 IB","","","",null,null,"","",null,{"$f":"COUNT(D46:J46)","v":0},{"$f":"SUM(D46:J46)","v":0},0,{"$f":"IF(N46>0,L46-1,L46)","v":0},{"$f":"M46-N46","v":0}]
["DeMestro","Little Wing","Beneteau 29",2,1,1,null,null,1,1,null,{"$f":"COUNT(D47:J47)","v":5},{"$f":"SUM(D47:J47)","v":6},0,{"$f":"IF(N47>0,L47-1,L47)","v":5},{"$f":"M47-N47","v":6},{"$f":"P47/O47","v":1.2},{"$f":"RANK(Q47,Q$45:Q$48,1)","v":1}]
["Gearhart","More Mischief","Beneteau 285",4,"","",null,null,null,null,null,{"$f":"COUNT(D48:J48)","v":1},{"$f":"SUM(D48:J48)","v":4},0,{"$f":"IF(N48>0,L48-1,L48)","v":1},{"$f":"M48-N48","v":4},{"$f":"P48/O48","v":4},"DNQ",null,"Did Not Qualify"]

{"sheet":"Fall Series Scoring Summary","index":7,"n_rows":48,"n_cols":22,"rows_kept":48,"cut":false,"hidden":true,"merged":[[2,0,2,10],[13,0,13,10],[27,0,27,10],[39,0,39,10]]}
[]
[]
["Blackwater Yacht Racing Association -Fall Race Results - Fleet 1"]
[]
[]
[null,null,null,"Race 1","Race 2","Race 3","Race 4","Race 5","Race 6","Race 7","Race 8",null,"# of Races","Total","Throw","# of Races","Points","Average","Overall"]
["Skipper","Boat Name","Boat","Place","Place","Place","Place","Place","Place","Place","Place",null,null,"Points","Out","Less Tout","Less Tout","Finish","Rank"]
["Cliborne","Bandit","J/24",1,1,1,1,1,2,1,1,null,{"$f":"COUNTIF(D8:K8,\">0\")","v":8},{"$f":"SUM(D8:K8)","v":9},2,{"$f":"IF(O8>0,M8-1,M8)","v":7},{"$f":"N8-O8","v":7},{"$f":"IFERROR(Q8/P8,\"\")","v":1},{"$f":"IFERROR(RANK(R8,R$8:R$11,1),\"\")","v":1},null,"ThrowOut"]
["Schaible","Spider","B25",3,3,2,2,3,3,3,3,null,{"$f":"COUNTIF(D9:K9,\">0\")","v":8},{"$f":"SUM(D9:K9)","v":22},6,6,16,2.6666666666666665,{"$f":"IFERROR(RANK(R9,R$8:R$11,1),\"\")","v":4},null,"ThrowOut"]
["Forqurean","Dark Horse","J/24",2,2,"","",2,1,"","",null,{"$f":"COUNTIF(D10:K10,\">0\")","v":4},{"$f":"SUM(D10:K10)","v":7},null,4,7,1.75,2,null,"ThrowOut"]
["Theis","Gotcha","S-2 6.7",2.5,2.5,3,3,4,4,2,2,null,{"$f":"COUNTIF(D11:K11,\">0\")","v":8},{"$f":"SUM(D11:K11)","v":23},8,6,15,2.5,3,null,"RC Scores"]
["Evans","Severence","C&C 25","",null,"RC","RC","RC","RC","RC","RC",null,null,null,null,null,null,null,"",null,"Did Not Qualify"]
[null,null,null,""]
["Blackwater Yacht Racing Association -Fall Race Results - Fleet 2"]
[]
[]
[null,null,null,"Race 1","Race 2","Race 3","Race 4","Race 5","Race 6","Race 7","Race 8",null,"# of Races","Total","Throw","# of Races","Points","Average","Overall"]
["Skipper","Boat Name","Boat","Place","Place","Place","Place","Place","Place","Place","Place",null,null,"Points","Out","Less Tout","Less Tout","Finish","Rank"]
["Arnold","Sails Call","Harbor 20",1,6,7,3,2,2,2,2,null,{"$f":"COUNTIF(D19:K19,\">0\")","v":8},{"$f":"SUM(D19:K19)","v":25},13,6,{"$f":"N19-O19","v":12},{"$f":"IFERROR(Q19/P19,\"\")","v":2},{"$f":"IFERROR(RANK(R19,R$19:R$26,1),\"\")","v":3},null,"ThrowOut","RC Scores"]
["Tunnell/Maloney","Courageous","Harbor 20",2,5,2,1,3,3,1,1,null,8,18,8,6,10,{"$f":"IFERROR(Q20/P20,\"\")","v":1.6666666666666667},{"$f":"IFERROR(RANK(R20,R$19:R$26,1),\"\")","v":2},null,"ThrowOut"]
["Hemler","Stoic","Harbor 20",3,1,1,2,1,1,1,1,null,8,11,5,6,6,1,1,null,"ThrowOut","RC Scores"]
["Toone","StressLess","Harbor 20",5,2,3,6,2.5,2.5,3,2,null,8,26,11,6,15,2.5,4,null,"ThrowOut","RC Scores"]
["Miekina","Synergy","Harbor 20",6,7,"","",null,null,4,null,null,3,17,null,{"$f":"IF(O23>0,M23-1,M23)","v":3},17,5.666666666666667,7,null,"Did Not Qualify"]
["Lingner","Easy Goer","Harbor 20","","","","",null,null,null,null,null,0,0,null,0,0,"","",null,"RC Scores"]
["Whitt","Destiny","Alerion 20",4,4,4,4,null,null,null,null,null,4,16,null,4,16,4,6]
["Runyan","Audacious","Alerion 20",7,3,5,5,null,null,2,3,null,6,25,7,5,18,3.6,5,null,"ThrowOut"]
[]
["Blackwater Yacht Racing Association -Fall Race Results - Fleet 3"]
[]
[]
[null,null,null,"Race 1","Race 2","Race 3","Race 4","Race 5","Race 6","Race 7","Race 8",null,"# of Races","Total","Throw","# of Races","Points","Average","Overall"]
["Skipper","Boat Name","Boat","Place","Place","Place","Place","Place","Place","Place","Place",null,null,"Points","Out","Less Tout","Less Tout","Finish","Rank"]
["Gobble","Always Something","Hunter 23",2,2,"","",2.75,2.75,3,4,null,{"$f":"COUNTIF(D33:K33,\">0\")","v":6},{"$f":"SUM(D33:K33)","v":16.5},4,{"$f":"IF(O33>0,M33-1,M33)","v":5},{"$f":"N33-O33","v":12.5},{"$f":"IFERROR(Q33/P33,\"\")","v":2.5},{"$f":"IFERROR(RANK(R33,R$33:R$38,1),\"\")","v":3},null,"ThrowOut","RC Scores"]
["Perdue","Debra Ann","O'Day 25 CB","","","","","","","","",null,{"$f":"COUNTIF(D34:K34,\">0\")","v":0},{"$f":"SUM(D34:K34)","v":0},null,0,0,"",{"$f":"IFERROR(RANK(R34,R$33:R$38,1),\"\")","v":""}]
["Hull","Fools Game","Pearson 26",1,1,1,2,1,3,1,3,null,{"$f":"COUNTIF(D35:K35,\">0\")","v":8},{"$f":"SUM(D35:K35)","v":13},6,6,7,1.1666666666666667,1,null,"ThrowOut"]
["Perdue","Miss Virginia","Hunter 23.5",3,3,"","",3,2,4,2,null,{"$f":"COUNTIF(D36:K36,\">0\")","v":6},{"$f":"SUM(D36:K36)","v":17},4,5,13,2.6,4,null,"ThrowOut"]
["Schraw","Second Wind","Ericson 23","","",2,1,2,1,2,1,null,{"$f":"COUNTIF(D37:K37,\">0\")","v":6},{"$f":"SUM(D37:K37)","v":9},2,5,7,1.4,2,null,"ThrowOut"]
["Grogan","Twinkle","Hunter 23","",null,"RC","RC",null,null,null,null,null,null,null,null,null,null,"","",null,"Did Not Qualify"]
[]
["Blackwater Yacht Racing Association - Fall Race Results - Fleet 4"]
[]
[]
[null,null,null,"Race 1","Race 2","Race 3","Race 4","Race 5","Race 6","Race 7","Race 8",null,"# of Races","Total","Throw","# of Races","Points","Average","Overall"]
["Skipper","Boat Name","Boat","Place","Place","Place","Place","Place","Place","Place","Place",null,null,"Points","Out","Less Tout","Less Tout","Finish","Rank"]
["Oginz","Alarming","S-2 9.2",2,2,2,2,2,2,1,1,null,{"$f":"COUNTIF(D45:K45,\">0\")","v":8},{"$f":"SUM(D45:K45)","v":14},4,6,{"$f":"N45-O45","v":10},{"$f":"IFERROR(Q45/P45,\"\")","v":1.6666666666666667},{"$f":"IFERROR(RANK(R45,R$45:R$48,1),\"\")","v":2},null,"ThrowOut"]
["Johnson","Felicite","S-2 27 IB",null,null,null,null,null,null,null,null,null,{"$f":"COUNTIF(D46:K46,\">0\")","v":0},{"$f":"SUM(D46:K46)","v":0},null,{"$f":"IF(O46>0,M46-1,M46)","v":0},{"$f":"N46-O46","v":0},"",{"$f":"IFERROR(RANK(R46,R$45:R$48,1),\"\")","v":""}]
["DeMestro","Little Wing","Beneteau 29",1,1,1,1,1,1,3,null,null,{"$f":"COUNTIF(D47:K47,\">0\")","v":7},{"$f":"SUM(D47:K47)","v":9},3,{"$f":"IF(O47>0,M47-1,M47)","v":6},{"$f":"N47-O47","v":6},1,1,null,"RC Scores"]
["Gearhart","More Mischief","Beneteau 285",null,null,1,1,null,null,null,null,null,{"$f":"COUNTIF(D48:K48,\">0\")","v":2},{"$f":"SUM(D48:K48)","v":2},null,{"$f":"IF(O48>0,M48-1,M48)","v":2},{"$f":"N48-O48","v":2},null,"",null,"Did Not Qualify"]

{"sheet":"Season Series Scoring Summary","index":8,"n_rows":49,"n_cols":26,"rows_kept":49,"cut":false,"hidden":true,"merged":[[28,0,28,25],[40,0,40,25],[2,0,2,25],[14,0,14,25]]}
[]
[]
["Blackwater Yacht Racing Association - Race Results - Fleet 1"]
[]
[]
[null,null,null,"SPRING","SPRING","SPRING","SPRING","SPRING","SPRING","SPRING","FALL","FALL","FALL","FALL","FALL","FALL","FALL","FALL",null,"SUMMARY","SUMMARY","SUMMARY","SUMMARY","SUMMARY","SUMMARY","SUMMARY"]
[null,null,null,"Race 1","Race 5","Race 6","Race 7","Race 8","MakeUp 1","MakeUp 2","Race 1","Race 2","Race 3","Race 4","Race 5","Race 6","Race 7","Race 8",null,"# of Races","Total","Throw","# of Races","Points","Average","Overall"]
["Skipper","Boat Name","Boat","Place","Place","Place","Place","Place","Place","Place","Place","Place","Place","Place","Place","Place","Place","Place",null,null,"Points","Out","Less Tout","Less Tout","Finish","Rank"]
["Cliborne","Bandit","J/24",1,1,2,2,1,1,"",{"$f":"'Fall Series Scoring Summary'!D8","v":1},{"$f":"'Fall Series Scoring Summary'!E8","v":1},{"$f":"'Fall Series Scoring Summary'!F8","v":1},{"$f":"'Fall Series Scoring Summary'!G8","v":1},{"$f":"'Fall Series Scoring Summary'!H8","v":1},{"$f":"'Fall Series Scoring Summary'!I8","v":2},{"$f":"'Fall Series Scoring Summary'!J8","v":1},{"$f":"'Fall Series Scoring Summary'!K8","v":1},null,{"$f":"COUNTIF(D9:R9,\">0\")","v":14},{"$f":"SUM(D9:R9)","v":17},4,12,{"$f":"U9-V9","v":13},{"$f":"IFERROR(X9/W9,\"\")","v":1.0833333333333333},{"$f":"IFERROR(RANK(Y9,Y$9:Y$13,1),\"\")","v":1}]
["Schaible","Spider","B25",2.75,4,3,"","",2,2,{"$f":"'Fall Series Scoring Summary'!D9","v":3},{"$f":"'Fall Series Scoring Summary'!E9","v":3},{"$f":"'Fall Series Scoring Summary'!F9","v":2},{"$f":"'Fall Series Scoring Summary'!G9","v":2},{"$f":"'Fall Series Scoring Summary'!H9","v":3},{"$f":"'Fall Series Scoring Summary'!I9","v":3},{"$f":"'Fall Series Scoring Summary'!J9","v":3},{"$f":"'Fall Series Scoring Summary'!K9","v":3},null,{"$f":"COUNTIF(D10:R10,\">0\")","v":13},{"$f":"SUM(D10:R10)","v":35.75},4,{"$f":"IF(V10>0,T10-1,T10)","v":12},31.75,2.6458333333333335,{"$f":"IFERROR(RANK(Y10,Y$9:Y$13,1),\"\")","v":2}]
["Forqurean","Dark Horse","J/24","",2,1,1,2,3,1,{"$f":"'Fall Series Scoring Summary'!D10","v":2},{"$f":"'Fall Series Scoring Summary'!E10","v":2},{"$f":"'Fall Series Scoring Summary'!F10","v":""},{"$f":"'Fall Series Scoring Summary'!G10","v":""},{"$f":"'Fall Series Scoring Summary'!H10","v":2},{"$f":"'Fall Series Scoring Summary'!I10","v":1},{"$f":"'Fall Series Scoring Summary'!J10","v":""},{"$f":"'Fall Series Scoring Summary'!K10","v":""},null,{"$f":"COUNTIF(D11:R11,\">0\")","v":10},{"$f":"SUM(D11:R11)","v":17},null,10,17,null,"Did Not Qualify"]
["Theis","Gotcha","S-2 6.7",2,5,4,"","",4,3,{"$f":"'Fall Series Scoring Summary'!D11","v":2.5},{"$f":"'Fall Series Scoring Summary'!E11","v":2.5},{"$f":"'Fall Series Scoring Summary'!F11","v":3},{"$f":"'Fall Series Scoring Summary'!G11","v":3},{"$f":"'Fall Series Scoring Summary'!H11","v":4},{"$f":"'Fall Series Scoring Summary'!I11","v":4},{"$f":"'Fall Series Scoring Summary'!J11","v":2},{"$f":"'Fall Series Scoring Summary'!K11","v":2},null,{"$f":"COUNTIF(D12:R12,\">0\")","v":13},{"$f":"SUM(D12:R12)","v":41},5,12,36,3,3]
["Evans","Severence","C&C 25",3,3,5,3,3,3.5,3.5,{"$f":"'Fall Series Scoring Summary'!D12","v":""},{"$f":"'Fall Series Scoring Summary'!E12","v":0},{"$f":"'Fall Series Scoring Summary'!F12","v":"RC"},{"$f":"'Fall Series Scoring Summary'!G12","v":"RC"},{"$f":"'Fall Series Scoring Summary'!H12","v":"RC"},{"$f":"'Fall Series Scoring Summary'!I12","v":"RC"},{"$f":"'Fall Series Scoring Summary'!J12","v":"RC"},{"$f":"'Fall Series Scoring Summary'!K12","v":"RC"},null,{"$f":"COUNTIF(D13:R13,\">0\")","v":7},{"$f":"SUM(D13:R13)","v":24},null,7,24,3.4285714285714284,"Did Not Qualify"]
[null,null,null,""]
["Blackwater Yacht Racing Association - Race Results - Fleet 2"]
[]
[null,null,null,"SPRING","SPRING","SPRING","SPRING","SPRING","SPRING","SPRING","FALL","FALL","FALL","FALL","FALL","FALL","FALL","FALL",null,"SUMMARY","SUMMARY","SUMMARY","SUMMARY","SUMMARY","SUMMARY","SUMMARY"]
[null,null,null,"Race 1","Race 5","Race 6","Race 7","Race 8","MakeUp 1","MakeUp 2","Race 1","Race 2","Race 3","Race 4","Race 5","Race 6","Race 7","Race 8",null,"# of Races","Total","Throw","# of Races","Points","Average","Overall"]
["Skipper","Boat Name","Boat","Place","Place","Place","Place","Place","Place","Place","Place","Place","Place","Place","Place","Place","Place","Place",null,null,"Points","Out","Less Tout","Less Tout","Finish","Rank"]
["Arnold","Sails Call","Harbor 20",3,1,1,"","",2,1,{"$f":"'Fall Series Scoring Summary'!D19","v":1},{"$f":"'Fall Series Scoring Summary'!E19","v":6},{"$f":"'Fall Series Scoring Summary'!F19","v":7},{"$f":"'Fall Series Scoring Summary'!G19","v":3},{"$f":"'Fall Series Scoring Summary'!H19","v":2},{"$f":"'Fall Series Scoring Summary'!I19","v":2},{"$f":"'Fall Series Scoring Summary'!J19","v":2},{"$f":"'Fall Series Scoring Summary'!K19","v":2},null,{"$f":"COUNTIF(D20:R20,\">0\")","v":13},{"$f":"SUM(D20:R20)","v":33},7,{"$f":"IF(V20>0,T20-1,T20)","v":12},{"$f":"U20-V20","v":26},{"$f":"IFERROR(X20/W20,\"\")","v":2.1666666666666665},{"$f":"IFERROR(RANK(Y20,Y$20:Y$27,1),\"\")","v":2}]
["Tunnell/Maloney","Courageous","Harbor 20",2,5,"",1,1,1,2,{"$f":"'Fall Series Scoring Summary'!D20","v":2},{"$f":"'Fall Series Scoring Summary'!E20","v":5},{"$f":"'Fall Series Scoring Summary'!F20","v":2},{"$f":"'Fall Series Scoring Summary'!G20","v":1},{"$f":"'Fall Series Scoring Summary'!H20","v":3},{"$f":"'Fall Series Scoring Summary'!I20","v":3},{"$f":"'Fall Series Scoring Summary'!J20","v":1},{"$f":"'Fall Series Scoring Summary'!K20","v":1},null,{"$f":"COUNTIF(D21:R21,\">0\")","v":14},{"$f":"SUM(D21:R21)","v":30},10,12,{"$f":"U21-V21","v":20},{"$f":"IFERROR(X21/W21,\"\")","v":1.6666666666666667},{"$f":"IFERROR(RANK(Y21,Y$20:Y$27,1),\"\")","v":1}]
["Hemler","Stoic","Harbor 20",1,2,2,"","","","",{"$f":"'Fall Series Scoring Summary'!D21","v":3},{"$f":"'Fall Series Scoring Summary'!E21","v":1},{"$f":"'Fall Series Scoring Summary'!F21","v":1},{"$f":"'Fall Series Scoring Summary'!G21","v":2},{"$f":"'Fall Series Scoring Summary'!H21","v":1},{"$f":"'Fall Series Scoring Summary'!I21","v":1},{"$f":"'Fall Series Scoring Summary'!J21","v":1},{"$f":"'Fall Series Scoring Summary'!K21","v":1},null,{"$f":"COUNTIF(D22:R22,\">0\")","v":11},{"$f":"SUM(D22:R22)","v":16},null,{"$f":"IF(V22>0,T22-1,T22)","v":11},16,null,"Did Not Qualify"]
["Toone","StressLess","Harbor 20",6,4,3,2,2,3,3,{"$f":"'Fall Series Scoring Summary'!D22","v":5},{"$f":"'Fall Series Scoring Summary'!E22","v":2},{"$f":"'Fall Series Scoring Summary'!F22","v":3},{"$f":"'Fall Series Scoring Summary'!G22","v":6},{"$f":"'Fall Series Scoring Summary'!H22","v":2.5},{"$f":"'Fall Series Scoring Summary'!I22","v":2.5},{"$f":"'Fall Series Scoring Summary'!J22","v":3},{"$f":"'Fall Series Scoring Summary'!K22","v":2},null,{"$f":"COUNTIF(D23:R23,\">0\")","v":15},{"$f":"SUM(D23:R23)","v":49},17,12,32,2.6666666666666665,3]
["Miekina","Synergy","Harbor 20",4,"RC","RC","","","","",{"$f":"'Fall Series Scoring Summary'!D23","v":6},{"$f":"'Fall Series Scoring Summary'!E23","v":7},{"$f":"'Fall Series Scoring Summary'!F23","v":""},{"$f":"'Fall Series Scoring Summary'!G23","v":""},{"$f":"'Fall Series Scoring Summary'!H23","v":0},{"$f":"'Fall Series Scoring Summary'!I23","v":0},{"$f":"'Fall Series Scoring Summary'!J23","v":4},{"$f":"'Fall Series Scoring Summary'!K23","v":0},null,{"$f":"COUNTIF(D24:R24,\">0\")","v":4},{"$f":"SUM(D24:R24)","v":21},null,4,21,null,"Did Not Qualify"]
["Lingner","Easy Goer","Harbor 20",3.5,"",null,3,3,4,4,{"$f":"'Fall Series Scoring Summary'!D24","v":""},{"$f":"'Fall Series Scoring Summary'!E24","v":""},{"$f":"'Fall Series Scoring Summary'!F24","v":""},{"$f":"'Fall Series Scoring Summary'!G24","v":""},{"$f":"'Fall Series Scoring Summary'!H24","v":0},{"$f":"'Fall Series Scoring Summary'!I24","v":0},{"$f":"'Fall Series Scoring Summary'!J24","v":0},{"$f":"'Fall Series Scoring Summary'!K24","v":0},null,{"$f":"COUNTIF(D25:R25,\">0\")","v":5},{"$f":"SUM(D25:R25)","v":17.5},null,5,17.5,null,"Did Not Qualify"]
["Whitt","Destiny","Alerion 20",5,3,5,"","","","",{"$f":"'Fall Series Scoring Summary'!D25","v":4},{"$f":"'Fall Series Scoring Summary'!E25","v":4},{"$f":"'Fall Series Scoring Summary'!F25","v":4},{"$f":"'Fall Series Scoring Summary'!G25","v":4},{"$f":"'Fall Series Scoring Summary'!H25","v":0},{"$f":"'Fall Series Scoring Summary'!I25","v":0},{"$f":"'Fall Series Scoring Summary'!J25","v":0},{"$f":"'Fall Series Scoring Summary'!K25","v":0},null,{"$f":"COUNTIF(D26:R26,\">0\")","v":7},{"$f":"SUM(D26:R26)","v":29},null,7,29,null,"Did Not Qualify"]
["Runyan","Audacious","Alerion 20",7,6,4,"","",5,5,{"$f":"'Fall Series Scoring Summary'!D26","v":7},{"$f":"'Fall Series Scoring Summary'!E26","v":3},{"$f":"'Fall Series Scoring Summary'!F26","v":5},{"$f":"'Fall Series Scoring Summary'!G26","v":5},{"$f":"'Fall Series Scoring Summary'!H26","v":0},{"$f":"'Fall Series Scoring Summary'!I26","v":0},{"$f":"'Fall Series Scoring Summary'!J26","v":2},{"$f":"'Fall Series Scoring Summary'!K26","v":3},null,{"$f":"COUNTIF(D27:R27,\">0\")","v":11},{"$f":"SUM(D27:R27)","v":52},null,11,52,null,"Did Not Qualify"]
[]
["Blackwater Yacht Racing Association - Race Results - Fleet 3"]
[]
[null,null,null,"SPRING","SPRING","SPRING","SPRING","SPRING","SPRING","SPRING","FALL","FALL","FALL","FALL","FALL","FALL","FALL","FALL",null,"SUMMARY","SUMMARY","SUMMARY","SUMMARY","SUMMARY","SUMMARY","SUMMARY"]
[null,null,null,"Race 1","Race 5","Race 6","Race 7","Race 8","MakeUp 1","MakeUp 2","Race 1","Race 2","Race 3","Race 4","Race 5","Race 6","Race 7","Race 8",null,"# of Races","Total","Throw","# of Races","Points","Average","Overall"]
["Skipper","Boat Name","Boat","Place","Place","Place","Place","Place","Place","Place","Place","Place","Place","Place","Place","Place","Place","Place",null,null,"Points","Out","Less Tout","Less Tout","Finish","Rank"]
["Gobble","Always Something","Hunter 23","",3,4,"","","","",{"$f":"'Fall Series Scoring Summary'!D33","v":2},{"$f":"'Fall Series Scoring Summary'!E33","v":2},{"$f":"'Fall Series Scoring Summary'!F33","v":""},{"$f":"'Fall Series Scoring Summary'!G33","v":""},{"$f":"'Fall Series Scoring Summary'!H33","v":2.75},{"$f":"'Fall Series Scoring Summary'!I33","v":2.75},{"$f":"'Fall Series Scoring Summary'!J33","v":3},{"$f":"'Fall Series Scoring Summary'!K33","v":4},null,{"$f":"COUNTIF(D34:R34,\">0\")","v":8},{"$f":"SUM(D34:R34)","v":23.5},null,{"$f":"IF(V34>0,T34-1,T34)","v":8},{"$f":"U34-V34","v":23.5},null,"Did Not Qualify"]
["Perdue","Debra Ann","O'Day 25 CB","","","","","","","",{"$f":"'Fall Series Scoring Summary'!D34","v":""},{"$f":"'Fall Series Scoring Summary'!E34","v":""},{"$f":"'Fall Series Scoring Summary'!F34","v":""},{"$f":"'Fall Series Scoring Summary'!G34","v":""},{"$f":"'Fall Series Scoring Summary'!H34","v":""},{"$f":"'Fall Series Scoring Summary'!I34","v":""},{"$f":"'Fall Series Scoring Summary'!J34","v":""},{"$f":"'Fall Series Scoring Summary'!K34","v":""},null,{"$f":"COUNTIF(D35:R35,\">0\")","v":0},{"$f":"SUM(D35:R35)","v":0},null,{"$f":"IF(V35>0,T35-1,T35)","v":0},{"$f":"U35-V35","v":0},{"$f":"IFERROR(X35/W35,\"\")","v":""},{"$f":"IFERROR(RANK(Y35,Y$34:Y$39,1),\"\")","v":""}]
["Hull","Fools Game","Pearson 26",4,1,1,1.25,1.25,2,1,{"$f":"'Fall Series Scoring Summary'!D35","v":1},{"$f":"'Fall Series Scoring Summary'!E35","v":1},{"$f":"'Fall Series Scoring Summary'!F35","v":1},{"$f":"'Fall Series Scoring Summary'!G35","v":2},{"$f":"'Fall Series Scoring Summary'!H35","v":1},{"$f":"'Fall Series Scoring Summary'!I35","v":3},{"$f":"'Fall Series Scoring Summary'!J35","v":1},{"$f":"'Fall Series Scoring Summary'!K35","v":3},null,{"$f":"COUNTIF(D36:R36,\">0\")","v":15},{"$f":"SUM(D36:R36)","v":24.5},10,12,14.5,1.2083333333333333,1]
["Perdue","Miss Virginia","Hunter 23.5",2,5,5,"","","","",{"$f":"'Fall Series Scoring Summary'!D36","v":3},{"$f":"'Fall Series Scoring Summary'!E36","v":3},{"$f":"'Fall Series Scoring Summary'!F36","v":""},{"$f":"'Fall Series Scoring Summary'!G36","v":""},{"$f":"'Fall Series Scoring Summary'!H36","v":3},{"$f":"'Fall Series Scoring Summary'!I36","v":2},{"$f":"'Fall Series Scoring Summary'!J36","v":4},{"$f":"'Fall Series Scoring Summary'!K36","v":2},null,{"$f":"COUNTIF(D37:R37,\">0\")","v":9},{"$f":"SUM(D37:R37)","v":29},null,9,29,null,"Did Not Qualify"]
["Schraw","Second Wind","Ericson 23",3,4,3,1,1,3,3,{"$f":"'Fall Series Scoring Summary'!D37","v":""},{"$f":"'Fall Series Scoring Summary'!E37","v":""},{"$f":"'Fall Series Scoring Summary'!F37","v":2},{"$f":"'Fall Series Scoring Summary'!G37","v":1},{"$f":"'Fall Series Scoring Summary'!H37","v":2},{"$f":"'Fall Series Scoring Summary'!I37","v":1},{"$f":"'Fall Series Scoring Summary'!J37","v":2},{"$f":"'Fall Series Scoring Summary'!K37","v":1},null,{"$f":"COUNTIF(D38:R38,\">0\")","v":13},{"$f":"SUM(D38:R38)","v":27},4,12,23,1.9166666666666667,2]
["Grogan","Twinkle","Hunter 23",1,2,2,2,2,1,2,{"$f":"'Fall Series Scoring Summary'!D38","v":""},{"$f":"'Fall Series Scoring Summary'!E38","v":0},{"$f":"'Fall Series Scoring Summary'!F38","v":"RC"},{"$f":"'Fall Series Scoring Summary'!G38","v":"RC"},{"$f":"'Fall Series Scoring Summary'!H38","v":0},{"$f":"'Fall Series Scoring Summary'!I38","v":0},{"$f":"'Fall Series Scoring Summary'!J38","v":0},{"$f":"'Fall Series Scoring Summary'!K38","v":0},null,{"$f":"COUNTIF(D39:R39,\">0\")","v":7},{"$f":"SUM(D39:R39)","v":12},null,7,12,null,"Did Not Qualify"]
[]
["Blackwater Yacht Racing Association - Race Results - Fleet 4"]
[]
[null,null,null,"SPRING","SPRING","SPRING","SPRING","SPRING","SPRING","SPRING","FALL","FALL","FALL","FALL","FALL","FALL","FALL","FALL",null,"SUMMARY","SUMMARY","SUMMARY","SUMMARY","SUMMARY","SUMMARY","SUMMARY"]
[null,null,null,"Race 1","Race 5","Race 6","Race 7","Race 8","MakeUp 1","MakeUp 2","Race 1","Race 2","Race 3","Race 4","Race 5","Race 6","Race 7","Race 8",null,"# of Races","Total","Throw","# of Races","Points","Average","Overall"]
["Skipper","Boat Name","Boat","Place","Place","Place","Place","Place","Place","Place","Place","Place","Place","Place","Place","Place","Place","Place",null,null,"Points","Out","Less Tout","Less Tout","Finish","Rank"]
["Oginz","Alarming","S-2 9.2",1,2,2,1,1,2,2,{"$f":"'Fall Series Scoring Summary'!D45","v":2},{"$f":"'Fall Series Scoring Summary'!E45","v":2},{"$f":"'Fall Series Scoring Summary'!F45","v":2},{"$f":"'Fall Series Scoring Summary'!G45","v":2},{"$f":"'Fall Series Scoring Summary'!H45","v":2},{"$f":"'Fall Series Scoring Summary'!I45","v":2},{"$f":"'Fall Series Scoring Summary'!J45","v":1},{"$f":"'Fall Series Scoring Summary'!K45","v":1},null,{"$f":"COUNTIF(D46:R46,\">0\")","v":15},{"$f":"SUM(D46:R46)","v":25},6,12,{"$f":"U46-V46","v":19},{"$f":"IFERROR(X46/W46,\"\")","v":1.5833333333333333},{"$f":"IFERROR(RANK(Y46,Y$46:Y$49,1),\"\")","v":2}]
["Johnson","Felicite","S-2 27 IB","","","",null,null,"","",{"$f":"'Fall Series Scoring Summary'!D46","v":0},{"$f":"'Fall Series Scoring Summary'!E46","v":0},{"$f":"'Fall Series Scoring Summary'!F46","v":0},{"$f":"'Fall Series Scoring Summary'!G46","v":0},{"$f":"'Fall Series Scoring Summary'!H46","v":0},{"$f":"'Fall Series Scoring Summary'!I46","v":0},{"$f":"'Fall Series Scoring Summary'!J46","v":0},{"$f":"'Fall Series Scoring Summary'!K46","v":0},null,{"$f":"COUNTIF(D47:R47,\">0\")","v":0},{"$f":"SUM(D47:R47)","v":0},null,{"$f":"IF(V47>0,T47-1,T47)","v":0},{"$f":"U47-V47","v":0},null,"Did Not Qualify"]
["DeMestro","Little Wing","Beneteau 29",2,1,1,null,null,1,1,{"$f":"'Fall Series Scoring Summary'!D47","v":1},{"$f":"'Fall Series Scoring Summary'!E47","v":1},{"$f":"'Fall Series Scoring Summary'!F47","v":1},{"$f":"'Fall Series Scoring Summary'!G47","v":1},{"$f":"'Fall Series Scoring Summary'!H47","v":1},{"$f":"'Fall Series Scoring Summary'!I47","v":1},{"$f":"'Fall Series Scoring Summary'!J47","v":3},{"$f":"'Fall Series Scoring Summary'!K47","v":0},null,{"$f":"COUNTIF(D48:R48,\">0\")","v":12},{"$f":"SUM(D48:R48)","v":15},null,12,15,{"$f":"IFERROR(X48/W48,\"\")","v":1.25},{"$f":"IFERROR(RANK(Y48,Y$46:Y$49,1),\"\")","v":1}]
["Gearhart","More Mischief","Beneteau 285",4,"","",null,null,null,null,{"$f":"'Fall Series Scoring Summary'!D48","v":0},{"$f":"'Fall Series Scoring Summary'!E48","v":0},{"$f":"'Fall Series Scoring Summary'!F48","v":1},{"$f":"'Fall Series Scoring Summary'!G48","v":1},{"$f":"'Fall Series Scoring Summary'!H48","v":0},{"$f":"'Fall Series Scoring Summary'!I48","v":0},{"$f":"'Fall Series Scoring Summary'!J48","v":0},{"$f":"'Fall Series Scoring Summary'!K48","v":0},null,{"$f":"COUNTIF(D49:R49,\">0\")","v":3},{"$f":"SUM(D49:R49)","v":6},null,3,6,null,"Did Not Qualify"]

{"sheet":"Fleet 1 and 2 Combo","index":9,"n_rows":33,"n_cols":37,"rows_kept":33,"cut":false,"hidden":true,"merged":[[4,0,4,14],[6,0,6,14],[7,6,7,7],[7,8,7,9],[7,10,7,11],[5,5,5,8]]}
["Control Z to run macro",null,null,null,null,null,null,null,null,null,null,null,null,null,null,null,null,null,5,null,null,null,null,null,"Winner"]
[null,null,null,null,null,null,null,null,null,null,null,null,null,null,null,null,null,null,null,null,null,null,null,null,{"$f":"MIN(N10:N27)","v":0}]
[{"$f":"#REF!","v":{"$error":"#REF!"}},"<-----Minutes after first start"]
[]
["Blackwater Yacht Racing Association - Race Results Fleets I & 2",null,null,null,null,null,null,null,null,null,null,null,null,null,null,null,null,null,null,null,null,null,null,null,null,"Test"]
[null,null,null,"Date:",{"$f":"#REF!","v":{"$error":"#REF!"}},{"$f":"#REF!","v":{"$error":"#REF!"}},null,null,null,null,{"$f":"CONCATENATE(\"RC:\",\" \",#REF!)","v":{"$error":"#REF!"}},null,null,null,null,null,null,null,null,null,null,null,null,null,"new tcf =","should ="]
[{"$f":"#REF!","v":{"$error":"#REF!"}},null,null,null,null,null,null,null,null,null,null,null,null,null,null,"Time","Time","Approx",null,"Finish Calculations",null,null,null,null,"Winner Adj Time","Winner Adj Time",null,null,"# of Boats"]
[null,null,null,null,null,null,"Handicap",null,"TCF",null,"Finish Time",null,"Calc(1)","Adj.(2)",null,"Behind","Behind","H'cap",null,"S for Spin",null,null,null,null,"/observed",null,null,null,{"$f":"MAX(AC10:AC27)","v":10}]
["Skipper","Boat Name","Initials","Guest?","Boat","Sail #","Spin*","Non-Spin*","Spin*","Non-Spin*","Min.","Sec.","Min.dd","Time","Place","Winner","Boat Ahead","to win",null,"N for non"]
["Cliborne","Bandit",null,null,"J/24",2792,170,{"$f":"IFERROR(G10+15,\"\")","v":185},{"$f":"IF(T10 = \"s\",1000/(900+G10),\"\")","v":0.93457943925233644},{"$f":"IF(T10 =\"n\",1000/(900+H10),\"\")","v":""},{"$f":"IF($AK10>0,(VLOOKUP($B10,#REF!,6,FALSE)),\"\")","v":{"$error":"#REF!"}},{"$f":"IF($AK10>0,(VLOOKUP($B10,#REF!,7,FALSE)),\"\")","v":{"$error":"#REF!"}},{"$f":"IF(AK10>0,(K10+L10/60)-A$3,\" \")","v":{"$error":"#REF!"}},{"$f":"IFERROR(U10,\" \")","v":""},"",{"$f":"IFERROR(N10-$Y$2,\"\")","v":""},null,{"$f":"IFERROR(ROUND((1000/Y10)-900,0),\"\")","v":""},null,"s",{"$f":"IFERROR(IF(M10>0,IF(T10=\"s\",M10*I10,0)+IF(T10=\"n\",M10*J10,0),\" \"),\"\")","v":""},{"$f":"IFERROR(RANK(N10,$N$10:$N$27,1),\"\")","v":""},null,null,{"$f":"IFERROR($Y$2/M10,\"\")","v":""},{"$f":"IFERROR(M10*Y10,\"\")","v":""},null,1,1,0,null,null,null,55,39,null,{"$f":"(VLOOKUP($B10,#REF!,6,FALSE))","v":{"$error":"#REF!"}}]
["Schaible","Spider",null,null,"B25",46,136,151,0.96525096525096521,{"$f":"IF(T11 =\"n\",1000/(900+H11),\"\")","v":""},{"$f":"IF($AK11>0,(VLOOKUP($B11,#REF!,6,FALSE)),\"\")","v":{"$error":"#REF!"}},{"$f":"IF($AK11>0,(VLOOKUP($B11,#REF!,7,FALSE)),\"\")","v":{"$error":"#REF!"}},{"$f":"IF(AK11>0,(K11+L11/60)-A$3,\" \")","v":{"$error":"#REF!"}},"","","",0.15513468156639476,"",null,"s",{"$f":"IFERROR(IF(M11>0,IF(T11=\"s\",M11*I11,0)+IF(T11=\"n\",M11*J11,0),\" \"),\"\")","v":""},"",null,null,"",{"$f":"IFERROR(M11*Y11,\"\")","v":""},null,2,9,8.485037106532431,0.15513468156639476,null,null,56,22,null,{"$f":"(VLOOKUP($B11,#REF!,6,FALSE))","v":{"$error":"#REF!"}}]
["Forqurean","Dark Horse",null,null,"J/24",1024,170,185,0.93457943925233644,{"$f":"IF(T12 =\"n\",1000/(900+H12),\"\")","v":""},{"$f":"IF($AK12>0,(VLOOKUP($B12,#REF!,6,FALSE)),\"\")","v":{"$error":"#REF!"}},{"$f":"IF($AK12>0,(VLOOKUP($B12,#REF!,7,FALSE)),\"\")","v":{"$error":"#REF!"}},{"$error":"#REF!"},"","","",0.2164903179765858,"",null,"s","","",null,null,"","",null,3,3,4.3613707165109048,0.2164903179765858,null,null,54,9,null,{"$f":"(VLOOKUP($B12,#REF!,6,FALSE))","v":{"$error":"#REF!"}}]
["Theis","Gotcha",null,null,"S-2 6.7",75,208,223,0.90252707581227432,{"$f":"IF(T13 =\"n\",1000/(900+H13),\"\")","v":""},{"$f":"IF($AK13>0,(VLOOKUP($B13,#REF!,6,FALSE)),\"\")","v":{"$error":"#REF!"}},{"$f":"IF($AK13>0,(VLOOKUP($B13,#REF!,7,FALSE)),\"\")","v":{"$error":"#REF!"}},{"$error":"#REF!"},"","","","","",null,"s","","",null,null,"","",null,4,"","","",null,null,62,59,null,{"$f":"(VLOOKUP($B13,#REF!,6,FALSE))","v":{"$error":"#REF!"}}]
["Evans","Severence",null,null,"C&C 25",14755,217,232,0.89525514771709935,{"$f":"IF(T14 =\"n\",1000/(900+H14),\"\")","v":""},{"$f":"IF($AK14>0,(VLOOKUP($B14,#REF!,6,FALSE)),\"\")","v":{"$error":"#REF!"}},{"$f":"IF($AK14>0,(VLOOKUP($B14,#REF!,7,FALSE)),\"\")","v":{"$error":"#REF!"}},{"$error":"#REF!"},"","","","","",null,"s","","",null,null,"","",null,5,"","","",null,null,59,12,null,{"$f":"(VLOOKUP($B14,#REF!,6,FALSE))","v":{"$error":"#REF!"}}]
[null,null,null,null,null,null,null,null,null,null,null,null,null,{"$f":"IFERROR(U15,\" \")","v":" "},"",{"$f":"IFERROR(N15-$Y$2,\"\")","v":""},"",{"$f":"IFERROR(ROUND((1000/Y15)-900,0),\"\")","v":""},null,"s"," ","",null,null,"","",null,6,"","","",null,null,56,58,null,{"$f":"(VLOOKUP($B15,#REF!,6,FALSE))","v":{"$error":"#REF!"}}]
[null,null,null,null,null,null,null,null,null,null,null,null,null," ","","","","",null,"s"," ","",null,null,"","",null,7,"","","",null,null,64,47,null,{"$f":"(VLOOKUP($B16,#REF!,6,FALSE))","v":{"$error":"#REF!"}}]
[null,null,null,null,null,null,null,null,null,null,null,null,null,null,"",null,null,"",null,"s"," ","",null,null,"","",null,9,"",null,"",null,null,null,null,null,{"$f":"(VLOOKUP($B17,#REF!,6,FALSE))","v":{"$error":"#REF!"}}]
[null,null,null,null,null,null,null,null,null,null,null,null,null,null,"",null,null,"",null,"n"," ","",null,null,"","",null,10,"",null,0,null,null,null,null,null,{"$f":"(VLOOKUP($B18,#REF!,6,FALSE))","v":{"$error":"#REF!"}}]
["Arnold","Sails Call",null,null,"Harbor 20",322,220,{"$f":"IFERROR(G19+15,\"\")","v":235},{"$f":"IF(T19 = \"s\",1000/(900+G19),\"\")","v":""},{"$f":"IF(T19 =\"n\",1000/(900+H19),\"\")","v":0.88105726872246692},{"$f":"IF($AK19>0,(VLOOKUP($B19,#REF!,6,FALSE)),\"\")","v":{"$error":"#REF!"}},{"$f":"IF($AK19>0,(VLOOKUP($B19,#REF!,7,FALSE)),\"\")","v":{"$error":"#REF!"}},{"$f":"IF(AK19>0,(K19+L19/60)-A$3,\" \")","v":{"$error":"#REF!"}},{"$f":"IFERROR(U19,\" \")","v":""},"",{"$f":"IFERROR(N19-$Y$2,\"\")","v":""},4.144880398534319,{"$f":"IFERROR(ROUND((1000/Y19)-900,0),\"\")","v":""},null,"n","","",null,null,"","",null,11,2,4.144880398534319,4.144880398534319,null,null,null,null,null,{"$f":"(VLOOKUP($B19,#REF!,6,FALSE))","v":{"$error":"#REF!"}}]
["Tunnell/Maloney","Courageous",null,null,"Harbor 20",278,220,235,"",0.88105726872246692,{"$f":"IF($AK20>0,(VLOOKUP($B20,#REF!,6,FALSE)),\"\")","v":{"$error":"#REF!"}},{"$f":"IF($AK20>0,(VLOOKUP($B20,#REF!,7,FALSE)),\"\")","v":{"$error":"#REF!"}},{"$error":"#REF!"},"","","",1.0169898582348651,"",null,"n","","",null,null,"","",null,12,4,5.3783605747457699,1.0169898582348651,null,null,null,null,null,{"$f":"(VLOOKUP($B20,#REF!,6,FALSE))","v":{"$error":"#REF!"}}]
["Hemler","Stoic",null,null,"Harbor 20",330,220,235,"",0.88105726872246692,{"$f":"IF($AK21>0,(VLOOKUP($B21,#REF!,6,FALSE)),\"\")","v":{"$error":"#REF!"}},{"$f":"IF($AK21>0,(VLOOKUP($B21,#REF!,7,FALSE)),\"\")","v":{"$error":"#REF!"}},{"$error":"#REF!"},"","","",0.11747430249632629,"",null,"n","","",null,null,"","",null,13,5,5.4958348772420962,0.11747430249632629,null,null,null,null,null,{"$f":"(VLOOKUP($B21,#REF!,6,FALSE))","v":{"$error":"#REF!"}}]
["Toone","StressLess",null,null,"Harbor 20",212,220,235,"",0.88105726872246692,{"$f":"IF($AK22>0,(VLOOKUP($B22,#REF!,6,FALSE)),\"\")","v":{"$error":"#REF!"}},{"$f":"IF($AK22>0,(VLOOKUP($B22,#REF!,7,FALSE)),\"\")","v":{"$error":"#REF!"}},{"$f":"IF(AK22>0,(K22+L22/60)-A$3,\" \")","v":{"$error":"#REF!"}},{"$f":"IFERROR(U22,\" \")","v":""},{"$f":"IFERROR(V22,\" \")","v":""},{"$f":"IFERROR(N22-$Y$2,\"\")","v":""},0.616740088105729,{"$f":"IFERROR(ROUND((1000/Y22)-900,0),\"\")","v":""},null,"n","","",null,null,"",null,null,14,7,6.3328392825284467,0.616740088105729,null,null,null,null,null,{"$f":"(VLOOKUP($B22,#REF!,6,FALSE))","v":{"$error":"#REF!"}}]
["Miekina","Synergy",null,null,"Harbor 20",215,220,235,"",0.88105726872246692,{"$f":"IF($AK23>0,(VLOOKUP($B23,#REF!,6,FALSE)),\"\")","v":{"$error":"#REF!"}},{"$f":"IF($AK23>0,(VLOOKUP($B23,#REF!,7,FALSE)),\"\")","v":{"$error":"#REF!"}},{"$error":"#REF!"},"","","",1.9970631424375895,"",null,"n","","",null,null,"",null,null,15,8,8.3299024249660363,1.9970631424375895,null,null,null,null,null,{"$f":"(VLOOKUP($B23,#REF!,6,FALSE))","v":{"$error":"#REF!"}}]
["Lingner","Easy Goer",null,null,"Harbor 20",337,220,{"$f":"IFERROR(G24+15,\"\")","v":235},{"$f":"IF(T24 = \"s\",1000/(900+G24),\"\")","v":""},{"$f":"IF(T24 =\"n\",1000/(900+H24),\"\")","v":0.88105726872246692},{"$f":"IF($AK24>0,(VLOOKUP($B24,#REF!,6,FALSE)),\"\")","v":{"$error":"#REF!"}},{"$f":"IF($AK24>0,(VLOOKUP($B24,#REF!,7,FALSE)),\"\")","v":{"$error":"#REF!"}},{"$error":"#REF!"},"","","","","",null,"n","","",null,null,"",null,null,16,"","","",null,null,null,null,null,{"$f":"(VLOOKUP($B24,#REF!,6,FALSE))","v":{"$error":"#REF!"}}]
["Whitt","Destiny",null,null,"Alerion 20",6,220,235,"",0.88105726872246692,{"$f":"IF($AK25>0,(VLOOKUP($B25,#REF!,6,FALSE)),\"\")","v":{"$error":"#REF!"}},{"$f":"IF($AK25>0,(VLOOKUP($B25,#REF!,7,FALSE)),\"\")","v":{"$error":"#REF!"}},{"$f":"IF(AK25>0,(K25+L25/60)-A$3,\" \")","v":{"$error":"#REF!"}},{"$f":"IFERROR(U25,\" \")","v":""},{"$f":"IFERROR(V25,\" \")","v":""},{"$f":"IFERROR(N25-$Y$2,\"\")","v":""},0.22026431718062156,{"$f":"IFERROR(ROUND((1000/Y25)-900,0),\"\")","v":""},null,"n","","",null,null,"",null,null,17,6,5.7160991944227177,0.22026431718062156,null,null,null,null,null,{"$f":"(VLOOKUP($B25,#REF!,6,FALSE))","v":{"$error":"#REF!"}}]
["Runyan","Audacious",null,null,"Alerion 20",51062,220,{"$f":"IFERROR(G26+15,\"\")","v":235},{"$f":"IF(T26 = \"s\",1000/(900+G26),\"\")","v":""},{"$f":"IF(T26 =\"n\",1000/(900+H26),\"\")","v":0.88105726872246692},{"$f":"IF($AK26>0,(VLOOKUP($B26,#REF!,6,FALSE)),\"\")","v":{"$error":"#REF!"}},{"$f":"IF($AK26>0,(VLOOKUP($B26,#REF!,7,FALSE)),\"\")","v":{"$error":"#REF!"}},{"$f":"IF(AK26>0,(K26+L26/60)-A$3,\" \")","v":{"$error":"#REF!"}},{"$f":"IFERROR(U26,\" \")","v":""},{"$f":"IFERROR(V26,\" \")","v":""},{"$f":"IFERROR(N26-$Y$2,\"\")","v":""},8.4058051128535709,{"$f":"IFERROR(ROUND((1000/Y26)-900,0),\"\")","v":""},null,"n","","",null,null,"","",null,18,10,16.890842219386002,8.4058051128535709,null,null,null,null,null,{"$f":"(VLOOKUP($B26,#REF!,6,FALSE))","v":{"$error":"#REF!"}}]
[null,null,null,null,null,null,null,null,null,null,null,null,null,{"$f":"IFERROR(U27,\" \")","v":" "},"",{"$f":"IFERROR(N27-$Y$2,\"\")","v":""},"",{"$f":"IFERROR(ROUND((1000/Y27)-900,0),\"\")","v":""},null,"n"," ","",null,null,"","",null,19,"","","",null,null,null,null,null,{"$f":"(VLOOKUP($B27,#REF!,6,FALSE))","v":{"$error":"#REF!"}}]
[null,null,null,null,null,null,null,null,null,null,null,null,null,null,null,null,"",null,null,null,null,null,null,null,null,null,null,20,null,null,""]
["(In case race timer has issues, use clock time as backup and do the math)"]
["(1) Convert seconds to decimal equivalent - see reference sheet"]
["(2) Multiply time in minutes by circled TCF"]
[]
["FLEET ONE",null,null,null,null,null,null,null,null,null,null,null,"RACE #"]

{"sheet":"Fleet 3 and 4 Combo","index":10,"n_rows":29,"n_cols":37,"rows_kept":29,"cut":false,"hidden":true,"merged":[[4,0,4,14],[6,0,6,14],[7,6,7,7],[7,8,7,9],[7,10,7,11],[5,5,5,8]]}
[null,null,null,null,null,null,null,null,null,null,null,null,null,null,null,null,null,null,6,null,null,null,null,null,"Winner"]
[null,null,null,null,null,null,null,null,null,null,null,null,null,null,null,null,null,null,null,null,null,null,null,null,{"$f":"MIN(N10:N23)","v":0}]
[{"$f":"#REF!","v":{"$error":"#REF!"}},"<-----Minutes after first start"]
[]
["Blackwater Yacht Racing Association - Race Results Fleets 3 & 4",null,null,null,null,null,null,null,null,null,null,null,null,null,null,null,null,null,null,null,null,null,null,null,null,"Test"]
[null,null,null,"Date:",{"$f":"#REF!","v":{"$error":"#REF!"}},{"$f":"#REF!","v":{"$error":"#REF!"}},null,null,null,null,{"$f":"CONCATENATE(\"RC:\",\" \",#REF!)","v":{"$error":"#REF!"}},null,null,null,null,null,null,null,null,null,null,null,null,null,"new tcf =","should ="]
[{"$f":"#REF!","v":{"$error":"#REF!"}},null,null,null,null,null,null,null,null,null,null,null,null,null,null,"Time","Time","Approx",null,"Finish Calculations",null,null,null,null,"Winner Adj Time","Winner Adj Time",null,null,"# of Boats"]
[null,null,null,null,null,null,"Handicap",null,"TCF",null,"Finish Time",null,"Calc(1)","Adj.(2)",null,"Behind","Behind","H'cap",null,"S for Spin",null,null,null,null,"/observed",null,null,null,{"$f":"MAX(AC10:AC23)","v":5}]
["Skipper","Boat Name","Initials","Guest?","Boat","Sail #","Spin*","Non-Spin*","Spin*","Non-Spin*","Min.","Sec.","Min.dd","Time","Place","Winner","Boat Ahead","to win",null,"N for non"]
["Gobble","Always Something",null,null,"Hunter 23",1256,243,{"$f":"IFERROR(G10+15,\"\")","v":258},{"$f":"IF(T10 = \"s\",1000/(900+G10),\"\")","v":""},{"$f":"IF(T10 =\"n\",1000/(900+H10),\"\")","v":0.86355785837651122},{"$f":"IF($AK10>0,(VLOOKUP($B10,#REF!,6,FALSE)),\"\")","v":{"$error":"#REF!"}},{"$f":"IF($AK10>0,(VLOOKUP($B10,#REF!,7,FALSE)),\"\")","v":{"$error":"#REF!"}},{"$f":"IF(AK10>0,(K10+L10/60)-A$3,\" \")","v":{"$error":"#REF!"}},{"$f":"IFERROR(U10,\" \")","v":""},"",{"$f":"IFERROR(N10-$Y$2,\"\")","v":""},0.52228106854719769,{"$f":"IFERROR(ROUND((1000/Y10)-900,0),\"\")","v":""},null,"n",{"$f":"IFERROR(IF(M10>0,IF(T10=\"s\",M10*I10,0)+IF(T10=\"n\",M10*J10,0),\" \"),\"\")","v":""},{"$f":"IFERROR(RANK(N10,$N$10:$N$23,1),\"\")","v":""},null,null,{"$f":"IFERROR($Y$2/M10,\"\")","v":""},{"$f":"IFERROR(M10*Y10,\"\")","v":""},null,1,3,4.306183562928247,0.52228106854719769,null,null,55,39,null,{"$f":"(VLOOKUP($B10,#REF!,6,FALSE))","v":{"$error":"#REF!"}}]
["Perdue","Debra Ann",null,null,"O'Day 25 CB",13092,238,{"$f":"IFERROR(G11+15,\"\")","v":253},{"$f":"IF(T11 = \"s\",1000/(900+G11),\"\")","v":""},{"$f":"IF(T11 =\"n\",1000/(900+H11),\"\")","v":0.86730268863833482},{"$f":"IF($AK11>0,(VLOOKUP($B11,#REF!,6,FALSE)),\"\")","v":{"$error":"#REF!"}},{"$f":"IF($AK11>0,(VLOOKUP($B11,#REF!,7,FALSE)),\"\")","v":{"$error":"#REF!"}},{"$error":"#REF!"},"","","","","",null,"n",{"$f":"IFERROR(IF(M11>0,IF(T11=\"s\",M11*I11,0)+IF(T11=\"n\",M11*J11,0),\" \"),\"\")","v":""},"",null,null,"",{"$f":"IFERROR(M11*Y11,\"\")","v":""},null,2,"","","",null,null,56,22,null,{"$f":"(VLOOKUP($B11,#REF!,6,FALSE))","v":{"$error":"#REF!"}}]
["Hull","Fools Game",null,null,"Pearson 26",1183,216,231,{"$f":"IF(T12 = \"s\",1000/(900+G12),\"\")","v":""},{"$f":"IF(T12 =\"n\",1000/(900+H12),\"\")","v":0.88417329796640143},{"$f":"IF($AK12>0,(VLOOKUP($B12,#REF!,6,FALSE)),\"\")","v":{"$error":"#REF!"}},{"$f":"IF($AK12>0,(VLOOKUP($B12,#REF!,7,FALSE)),\"\")","v":{"$error":"#REF!"}},{"$f":"IF(AK12>0,(K12+L12/60)-A$3,\" \")","v":{"$error":"#REF!"}},{"$f":"IFERROR(U12,\" \")","v":""},{"$f":"IFERROR(V12,\" \")","v":""},{"$f":"IFERROR(N12-$Y$2,\"\")","v":""},null,{"$f":"IFERROR(ROUND((1000/Y12)-900,0),\"\")","v":""},null,"n","","",null,null,"","",null,3,1,0,null,null,null,54,9,null,{"$f":"(VLOOKUP($B12,#REF!,6,FALSE))","v":{"$error":"#REF!"}}]
["Perdue","Miss Virginia",null,null,"Hunter 23.5",1309,243,258,{"$f":"IF(T13 = \"s\",1000/(900+G13),\"\")","v":""},{"$f":"IF(T13 =\"n\",1000/(900+H13),\"\")","v":0.86355785837651122},{"$f":"IF($AK13>0,(VLOOKUP($B13,#REF!,6,FALSE)),\"\")","v":{"$error":"#REF!"}},{"$f":"IF($AK13>0,(VLOOKUP($B13,#REF!,7,FALSE)),\"\")","v":{"$error":"#REF!"}},{"$error":"#REF!"},"","","",1.1082325849165215,"",null,"n","","",null,null,"","",null,4,4,5.4144161478447685,1.1082325849165215,null,null,62,59,null,{"$f":"(VLOOKUP($B13,#REF!,6,FALSE))","v":{"$error":"#REF!"}}]
["Schraw","Second Wind",null,null,"Ericson 23",470,{"$f":"241+3","v":244},259,{"$f":"IF(T14 = \"s\",1000/(900+G14),\"\")","v":""},{"$f":"IF(T14 =\"n\",1000/(900+H14),\"\")","v":0.86281276962899056},{"$f":"IF($AK14>0,(VLOOKUP($B14,#REF!,6,FALSE)),\"\")","v":{"$error":"#REF!"}},{"$f":"IF($AK14>0,(VLOOKUP($B14,#REF!,7,FALSE)),\"\")","v":{"$error":"#REF!"}},{"$error":"#REF!"},"","","","","",null,"n","","",null,null,"","",null,5,"","","",null,null,59,12,null,{"$f":"(VLOOKUP($B14,#REF!,6,FALSE))","v":{"$error":"#REF!"}}]
["Grogan","Twinkle",null,null,"Hunter 23",null,246,{"$f":"IFERROR(G15+15,\"\")","v":261},{"$f":"IF(T15 = \"s\",1000/(900+G15),\"\")","v":""},{"$f":"IF(T15 =\"n\",1000/(900+H15),\"\")","v":0.8613264427217916},{"$f":"IF($AK15>0,(VLOOKUP($B15,#REF!,6,FALSE)),\"\")","v":{"$error":"#REF!"}},{"$f":"IF($AK15>0,(VLOOKUP($B15,#REF!,7,FALSE)),\"\")","v":{"$error":"#REF!"}},{"$error":"#REF!"},{"$f":"IFERROR(U15,\" \")","v":""},{"$f":"IFERROR(V15,\" \")","v":""},{"$f":"IFERROR(N15-$Y$2,\"\")","v":""},"",{"$f":"IFERROR(ROUND((1000/Y15)-900,0),\"\")","v":""},null,"n","","",null,null,"","",null,6,"","","",null,null,56,58,null,{"$f":"(VLOOKUP($B15,#REF!,6,FALSE))","v":{"$error":"#REF!"}}]
[null,null,null,null,null,null,null,null,null,null,null,null,null," ","","","","",null,"n"," ","",null,null,"","",null,7,"","","",null,null,64,47,null,{"$f":"(VLOOKUP($B16,#REF!,6,FALSE))","v":{"$error":"#REF!"}}]
["Oginz","Alarming",null,null,"S-2 9.2",505,{"$f":"183+3+3","v":189},204,"",0.90579710144927539,{"$f":"IF($AK17>0,(VLOOKUP($B17,#REF!,6,FALSE)),\"\")","v":{"$error":"#REF!"}},{"$f":"IF($AK17>0,(VLOOKUP($B17,#REF!,7,FALSE)),\"\")","v":{"$error":"#REF!"}},{"$f":"IF(AK17>0,(K17+L17/60)-A$3,\" \")","v":{"$error":"#REF!"}},"","","",1.9347137743736127,"",null,"n","","",null,null,"","",null,9,5,7.3491299222183812,1.9347137743736127,null,null,null,null,null,{"$f":"(VLOOKUP($B17,#REF!,6,FALSE))","v":{"$error":"#REF!"}}]
["Johnson","Felicite",null,null,"S-2 27 IB",13,{"$f":"188+6","v":194},209,"",0.90171325518485124,{"$f":"IF($AK18>0,(VLOOKUP($B18,#REF!,6,FALSE)),\"\")","v":{"$error":"#REF!"}},{"$f":"IF($AK18>0,(VLOOKUP($B18,#REF!,7,FALSE)),\"\")","v":{"$error":"#REF!"}},{"$error":"#REF!"},"","","","","",null,"n","","",null,null,"","",null,10,"","","",null,null,null,null,null,{"$f":"(VLOOKUP($B18,#REF!,6,FALSE))","v":{"$error":"#REF!"}}]
["DeMestro","Little Wing",null,null,"Beneteau 29",485,168,183,"",0.92336103416435822,{"$f":"IF($AK19>0,(VLOOKUP($B19,#REF!,6,FALSE)),\"\")","v":{"$error":"#REF!"}},{"$f":"IF($AK19>0,(VLOOKUP($B19,#REF!,7,FALSE)),\"\")","v":{"$error":"#REF!"}},{"$error":"#REF!"},"","","",3.7839024943810493,"",null,"n","","",null,null,"","",null,11,2,3.7839024943810493,3.7839024943810493,null,null,null,null,null,{"$f":"(VLOOKUP($B19,#REF!,6,FALSE))","v":{"$error":"#REF!"}}]
["Gearhart","More Mischief",null,null,"Beneteau 285",144,{"$f":"193+6","v":199},214,null,0.89766606822262118,{"$f":"IF($AK20>0,(VLOOKUP($B20,#REF!,6,FALSE)),\"\")","v":{"$error":"#REF!"}},{"$f":"IF($AK20>0,(VLOOKUP($B20,#REF!,7,FALSE)),\"\")","v":{"$error":"#REF!"}},{"$error":"#REF!"},"","","","","",null,"n","","",null,null,"","",null,12,"","","",null,null,null,null,null,{"$f":"(VLOOKUP($B20,#REF!,6,FALSE))","v":{"$error":"#REF!"}}]
[null,null,null,null,null,null,null,null,null,null,null,null,null,{"$f":"IFERROR(U21,\" \")","v":" "},{"$f":"IFERROR(V21,\" \")","v":""},{"$f":"IFERROR(N21-$Y$2,\"\")","v":""},"",{"$f":"IFERROR(ROUND((1000/Y21)-900,0),\"\")","v":""},null,"n"," ","",null,null,"","",null,13,"","","",null,null,null,null,null,{"$f":"(VLOOKUP($B21,#REF!,6,FALSE))","v":{"$error":"#REF!"}}]
[null,null,null,null,null,null,null,null,null,null,null,null,null," ","","","","",null,"n"," ","",null,null,"","",null,14,"","","",null,null,null,null,null,{"$f":"(VLOOKUP($B22,#REF!,6,FALSE))","v":{"$error":"#REF!"}}]
[null,null,null,null,null,null,null,null,null,null,null,null,null," ","","","","",null,"n"," ","",null,null,"","",null,15,"","","",null,null,null,null,null,{"$f":"(VLOOKUP($B23,#REF!,6,FALSE))","v":{"$error":"#REF!"}}]
["Race Start Time ",null,null,null,null,null,null,null,null,null,null,null,null,"FLEET THREE & FOUR",null,null,"",null,null,null,null,null,null,null,null,null,null,16,null,null,"",null,null,null,null,null,{"$f":"(VLOOKUP($B24,#REF!,6,FALSE))","v":{"$error":"#REF!"}}]
["(In case race timer has issues, use clock time as backup and do the math)",null,null,null,null,null,null,null,null,null,null,null,null,null,null,null,0,null,null,null,null,null,null,null,null,null,null,17,null,null,0,null,null,null,null,null,{"$f":"(VLOOKUP($B25,#REF!,6,FALSE))","v":{"$error":"#REF!"}}]
["(1) Convert seconds to decimal equivalent - see reference sheet",null,null,null,null,null,null,null,null,null,null,null,null,null,null,null,0,null,null,null,null,null,null,null,null,null,null,18,null,null,0,null,null,null,null,null,{"$f":"(VLOOKUP($B26,#REF!,6,FALSE))","v":{"$error":"#REF!"}}]
["(2) Multiply time in minutes by circled TCF",null,null,null,null,null,null,null,null,null,null,null,null,null,null,null,0,null,null,null,null,null,null,null,null,null,null,19,null,null,0,null,null,null,null,null,{"$f":"(VLOOKUP($B27,#REF!,6,FALSE))","v":{"$error":"#REF!"}}]
[null,null,null,null,null,null,null,null,null,null,null,null,null,null,null,null,0,null,null,null,null,null,null,null,null,null,null,null,null,null,0]
["FLEET THREE",null,null,null,null,null,null,null,null,null,null,null,"RACE #"]